BEGIN:VCALENDAR
VERSION:2.0
PRODID:-//ChamberMaster//Event Calendar 2.0//EN
METHOD:PUBLISH
X-PUBLISHED-TTL:P3D
REFRESH-INTERVAL:P3D
CALSCALE:GREGORIAN
BEGIN:VEVENT
DTSTART:20230830T160000Z
DTEND:20230830T170000Z
X-MICROSOFT-CDO-ALLDAYEVENT:FALSE
SUMMARY:HR Hot Topics & Red Flags
DESCRIPTION:This session is designed to explore issues of particular concern to employers\, general information about key trends in HR\, and red flags for concerns in employment.\n\n\n\nWhy attend? Understanding compliance guidelines helps create effective and legal employment processes\, allowing small business owners to respond strategically to workforce issues.\n\n\n\nDeveloping objective HR tools keeps employers compliant with federal and state regulations as well as encourages management consistency.\n\n\n\nEmploying effective HR management processes promotes improved and sustainable business practices and can lead to increased economic opportunity for all.\n\n\n\nCurrent Hot Topics Include:\n\n-Employee classification\n\n Employee vs. independent contractor\n\n-Employee classification\n\n Exempt vs. Nonexempt (Overtime rules)\n\n-Recordkeeping\n\n-Worker Eligibility\n\n-I-9s and best practices\n\n-Other current trends\n\n\n\nThis session is presented by Deirdre Pattillo\, SPHR\, SHRM-SCP\, Senior Project Manager - Employer Services\, UTSA SBDC CGC. This webinar is hosted by the UTRGV SBDC with promotional support from participating resource partners\, including the Texas South-West SBDC Network\, Brownsville Chamber of Commerce\; Consulate of Mexico in McAllen\; Edinburg Chamber of Commerce\; Greater Alton Chamber of Commerce\; Greater Pharr Chamber of Commerce\; Greater Mission Chamber of Commerce\; Harlingen Economic Development Corporation\; Palmview Chamber of Commerce\; Rio Grande City Economic Development Corporation\; Rio Grande City Greater Chamber of Commerce\; Rio Grande City Public Library\; Rio Grande Valley Hispanic Chamber of Commerce\; San Benito Chamber of Commerce\; South Padre Island Chamber of Commerce\; Starr County Industrial Foundation\; Weslaco Area Chamber of Commerce & Visitors Center.
X-ALT-DESC;FMTTYPE=text/html:<span style="color: rgb(35\, 35\, 51)\; font-family: &quot\;Helvetica Neue&quot\;\, Helvetica\, Arial\, sans-serif\; font-size: 14px\; white-space-collapse: preserve\; background-color: rgb(255\, 255\, 255)\;">This session is designed to explore issues of particular concern to employers\, general information about key trends in HR\, and red flags for concerns in employment.<br />\n<br />\nWhy attend? Understanding compliance guidelines helps create effective and legal employment processes\, allowing small business owners to respond strategically to workforce issues.<br />\n<br />\nDeveloping objective HR tools keeps employers compliant with federal and state regulations as well as encourages management consistency.<br />\n<br />\nEmploying effective HR management processes promotes improved and sustainable business practices and can lead to increased economic opportunity for all.<br />\n<br />\nCurrent Hot Topics Include:<br />\n-Employee classification<br />\n&ndash\;Employee vs. independent contractor<br />\n-Employee classification<br />\n&ndash\;Exempt vs. Nonexempt (Overtime rules)<br />\n-Recordkeeping<br />\n-Worker Eligibility<br />\n-I-9s and best practices<br />\n-Other current trends<br />\n<br />\nThis session is presented by Deirdre Pattillo\, SPHR\, SHRM-SCP\, Senior Project Manager - Employer Services\, UTSA SBDC CGC. This webinar is hosted by the UTRGV SBDC with promotional support from participating resource partners\, including the Texas South-West SBDC Network\, Brownsville Chamber of Commerce\; Consulate of Mexico in McAllen\; Edinburg Chamber of Commerce\; Greater Alton Chamber of Commerce\; Greater Pharr Chamber of Commerce\; Greater Mission Chamber of Commerce\; Harlingen Economic Development Corporation\; Palmview Chamber of Commerce\; Rio Grande City Economic Development Corporation\; Rio Grande City Greater Chamber of Commerce\; Rio Grande City Public Library\; Rio Grande Valley Hispanic Chamber of Commerce\; San Benito Chamber of Commerce\; South Padre Island Chamber of Commerce\; Starr County Industrial Foundation\; Weslaco Area Chamber of Commerce &amp\; Visitors Center.</span>
LOCATION:
UID:e.3411.608
SEQUENCE:3
DTSTAMP:20260424T163159Z
URL:https://members.rgvhcc.org/events/details/hr-hot-topics-red-flags-608
END:VEVENT

END:VCALENDAR
