BEGIN:VCALENDAR
VERSION:2.0
PRODID:-//ChamberMaster//Event Calendar 2.0//EN
METHOD:PUBLISH
X-PUBLISHED-TTL:P3D
REFRESH-INTERVAL:P3D
CALSCALE:GREGORIAN
BEGIN:VEVENT
DTSTART:20250522T170000Z
DTEND:20250522T170000Z
X-MICROSOFT-CDO-ALLDAYEVENT:FALSE
SUMMARY:IDEA Public Schools: Dinner & Auction Scholarship Event
DESCRIPTION:We are excited to announce that IDEA Public Schools will be celebrating its 25th anniversary with a special Dinner and Auction Scholarship Event on May 22\, 2025. This milestone event will bring together supporters\, partners\, and community members to celebrate our journey and raise vital funds for our scholarship programs.
X-ALT-DESC;FMTTYPE=text/html:We are excited to announce that IDEA Public Schools will be celebrating its 25th anniversary with a special Dinner and Auction Scholarship Event on May 22\, 2025. This milestone event will bring together supporters\, partners\, and community members to celebrate our journey and raise vital funds for our scholarship programs.
LOCATION:TBD
UID:e.3411.893
SEQUENCE:3
DTSTAMP:20260422T175844Z
URL:https://members.rgvhcc.org/events/details/idea-public-schools-dinner-auction-scholarship-event-893
END:VEVENT

END:VCALENDAR
