BEGIN:VCALENDAR
VERSION:2.0
PRODID:-//ChamberMaster//Event Calendar 2.0//EN
METHOD:PUBLISH
X-PUBLISHED-TTL:P3D
REFRESH-INTERVAL:P3D
CALSCALE:GREGORIAN
BEGIN:VEVENT
DTSTART:20250613T170000Z
DTEND:20250613T180000Z
X-MICROSOFT-CDO-ALLDAYEVENT:FALSE
SUMMARY:Improve Your Credit Workshop
DESCRIPTION:This workshop is perfect for anyone looking to take the next step in their financial journey   whether you're planning to buy home\, purchase a new car\, start a business\, or simply boost your credit\, this workshop is for you!\n\nWith school out\, it's also a great opportunity for students preparing for college to learn essential credit skills early on.
X-ALT-DESC;FMTTYPE=text/html:This workshop is perfect for anyone looking to take the next step in their financial journey &ndash\; whether you&rsquo\;re planning to buy home\, purchase a new car\, start a business\, or simply boost your credit\, this workshop is for you!<br />\nWith school out\, it&rsquo\;s also a great opportunity for students preparing for college to learn essential credit skills early on.\n<div>&nbsp\;</div>\n
LOCATION:Chase Tower McAllen 200 S 10th St McAllen\, TX 78501
UID:e.3411.986
SEQUENCE:3
DTSTAMP:20260422T143444Z
URL:https://members.rgvhcc.org/events/details/improve-your-credit-workshop-986
END:VEVENT

END:VCALENDAR
