BEGIN:VCALENDAR
VERSION:2.0
PRODID:-//ChamberMaster//Event Calendar 2.0//EN
METHOD:PUBLISH
X-PUBLISHED-TTL:P3D
REFRESH-INTERVAL:P3D
CALSCALE:GREGORIAN
BEGIN:VEVENT
DTSTART:20241117T180000Z
DTEND:20241117T230000Z
X-MICROSOFT-CDO-ALLDAYEVENT:FALSE
SUMMARY:International Chamber Summit
DESCRIPTION:
X-ALT-DESC;FMTTYPE=text/html:<br style="color: rgb(60\, 64\, 67)\; font-family: Roboto\, sans-serif\; font-size: 14px\; letter-spacing: 0.2px\; background-color: rgb(255\, 255\, 255)\;" />\n&nbsp\;
LOCATION:Capilla del Rio
UID:e.3411.868
SEQUENCE:3
DTSTAMP:20260423T090536Z
URL:https://members.rgvhcc.org/events/details/international-chamber-summit-868
END:VEVENT

END:VCALENDAR
