BEGIN:VCALENDAR
VERSION:2.0
PRODID:-//ChamberMaster//Event Calendar 2.0//EN
METHOD:PUBLISH
X-PUBLISHED-TTL:P3D
REFRESH-INTERVAL:P3D
CALSCALE:GREGORIAN
BEGIN:VEVENT
DTSTART:20240208T233000Z
DTEND:20240209T013000Z
X-MICROSOFT-CDO-ALLDAYEVENT:FALSE
SUMMARY:Joint Mixer with Alamo Chamber of Commerce
DESCRIPTION:Embark on an evening of meaningful connections and collaboration at our Network Night Joint Mixer!\n\n  Exciting Opportunities Await! We're thrilled to unite the forces of the RGV Hispanic Chamber and the Alamo Chamber of Commerce. It's a unique chance to foster new connections and fortify existing ones.\n\n\n\nLet's come together in the spirit of collaboration and community. Your presence is the key to making this evening a success. See you there!
X-ALT-DESC;FMTTYPE=text/html:<p style="border: 0px solid rgb(217\, 217\, 227)\; box-sizing: border-box\; --tw-border-spacing-x: 0\; --tw-border-spacing-y: 0\; --tw-translate-x: 0\; --tw-translate-y: 0\; --tw-rotate: 0\; --tw-skew-x: 0\; --tw-skew-y: 0\; --tw-scale-x: 1\; --tw-scale-y: 1\; --tw-pan-x: \; --tw-pan-y: \; --tw-pinch-zoom: \; --tw-scroll-snap-strictness: proximity\; --tw-gradient-from-position: \; --tw-gradient-via-position: \; --tw-gradient-to-position: \; --tw-ordinal: \; --tw-slashed-zero: \; --tw-numeric-figure: \; --tw-numeric-spacing: \; --tw-numeric-fraction: \; --tw-ring-inset: \; --tw-ring-offset-width: 0px\; --tw-ring-offset-color: #fff\; --tw-ring-color: rgba(69\,89\,164\,.5)\; --tw-ring-offset-shadow: 0 0 transparent\; --tw-ring-shadow: 0 0 transparent\; --tw-shadow: 0 0 transparent\; --tw-shadow-colored: 0 0 transparent\; --tw-blur: \; --tw-brightness: \; --tw-contrast: \; --tw-grayscale: \; --tw-hue-rotate: \; --tw-invert: \; --tw-saturate: \; --tw-sepia: \; --tw-drop-shadow: \; --tw-backdrop-blur: \; --tw-backdrop-brightness: \; --tw-backdrop-contrast: \; --tw-backdrop-grayscale: \; --tw-backdrop-hue-rotate: \; --tw-backdrop-invert: \; --tw-backdrop-opacity: \; --tw-backdrop-saturate: \; --tw-backdrop-sepia: \; margin: 1.25em 0px\; color: rgb(55\, 65\, 81)\; font-family: Söhne\, ui-sans-serif\, system-ui\, -apple-system\, &quot\;Segoe UI&quot\;\, Roboto\, Ubuntu\, Cantarell\, &quot\;Noto Sans&quot\;\, sans-serif\, &quot\;Helvetica Neue&quot\;\, Arial\, &quot\;Apple Color Emoji&quot\;\, &quot\;Segoe UI Emoji&quot\;\, &quot\;Segoe UI Symbol&quot\;\, &quot\;Noto Color Emoji&quot\;\; font-size: 16px\; white-space-collapse: preserve\;">Embark on an evening of meaningful connections and collaboration at our Network Night Joint Mixer!</p>\n\n<p style="border: 0px solid rgb(217\, 217\, 227)\; box-sizing: border-box\; --tw-border-spacing-x: 0\; --tw-border-spacing-y: 0\; --tw-translate-x: 0\; --tw-translate-y: 0\; --tw-rotate: 0\; --tw-skew-x: 0\; --tw-skew-y: 0\; --tw-scale-x: 1\; --tw-scale-y: 1\; --tw-pan-x: \; --tw-pan-y: \; --tw-pinch-zoom: \; --tw-scroll-snap-strictness: proximity\; --tw-gradient-from-position: \; --tw-gradient-via-position: \; --tw-gradient-to-position: \; --tw-ordinal: \; --tw-slashed-zero: \; --tw-numeric-figure: \; --tw-numeric-spacing: \; --tw-numeric-fraction: \; --tw-ring-inset: \; --tw-ring-offset-width: 0px\; --tw-ring-offset-color: #fff\; --tw-ring-color: rgba(69\,89\,164\,.5)\; --tw-ring-offset-shadow: 0 0 transparent\; --tw-ring-shadow: 0 0 transparent\; --tw-shadow: 0 0 transparent\; --tw-shadow-colored: 0 0 transparent\; --tw-blur: \; --tw-brightness: \; --tw-contrast: \; --tw-grayscale: \; --tw-hue-rotate: \; --tw-invert: \; --tw-saturate: \; --tw-sepia: \; --tw-drop-shadow: \; --tw-backdrop-blur: \; --tw-backdrop-brightness: \; --tw-backdrop-contrast: \; --tw-backdrop-grayscale: \; --tw-backdrop-hue-rotate: \; --tw-backdrop-invert: \; --tw-backdrop-opacity: \; --tw-backdrop-saturate: \; --tw-backdrop-sepia: \; margin: 1.25em 0px\; color: rgb(55\, 65\, 81)\; font-family: Söhne\, ui-sans-serif\, system-ui\, -apple-system\, &quot\;Segoe UI&quot\;\, Roboto\, Ubuntu\, Cantarell\, &quot\;Noto Sans&quot\;\, sans-serif\, &quot\;Helvetica Neue&quot\;\, Arial\, &quot\;Apple Color Emoji&quot\;\, &quot\;Segoe UI Emoji&quot\;\, &quot\;Segoe UI Symbol&quot\;\, &quot\;Noto Color Emoji&quot\;\; font-size: 16px\; white-space-collapse: preserve\;">&#129309\; <span style="border: 0px solid rgb(217\, 217\, 227)\; box-sizing: border-box\; --tw-border-spacing-x: 0\; --tw-border-spacing-y: 0\; --tw-translate-x: 0\; --tw-translate-y: 0\; --tw-rotate: 0\; --tw-skew-x: 0\; --tw-skew-y: 0\; --tw-scale-x: 1\; --tw-scale-y: 1\; --tw-pan-x: \; --tw-pan-y: \; --tw-pinch-zoom: \; --tw-scroll-snap-strictness: proximity\; --tw-gradient-from-position: \; --tw-gradient-via-position: \; --tw-gradient-to-position: \; --tw-ordinal: \; --tw-slashed-zero: \; --tw-numeric-figure: \; --tw-numeric-spacing: \; --tw-numeric-fraction: \; --tw-ring-inset: \; --tw-ring-offset-width: 0px\; --tw-ring-offset-color: #fff\; --tw-ring-color: rgba(69\,89\,164\,.5)\; --tw-ring-offset-shadow: 0 0 transparent\; --tw-ring-shadow: 0 0 transparent\; --tw-shadow: 0 0 transparent\; --tw-shadow-colored: 0 0 transparent\; --tw-blur: \; --tw-brightness: \; --tw-contrast: \; --tw-grayscale: \; --tw-hue-rotate: \; --tw-invert: \; --tw-saturate: \; --tw-sepia: \; --tw-drop-shadow: \; --tw-backdrop-blur: \; --tw-backdrop-brightness: \; --tw-backdrop-contrast: \; --tw-backdrop-grayscale: \; --tw-backdrop-hue-rotate: \; --tw-backdrop-invert: \; --tw-backdrop-opacity: \; --tw-backdrop-saturate: \; --tw-backdrop-sepia: \; font-weight: 600\; color: var(--tw-prose-bold)\;">Exciting Opportunities Await!</span> We&#39\;re thrilled to unite the forces of the RGV Hispanic Chamber and the Alamo Chamber of Commerce. It&#39\;s a unique chance to foster new connections and fortify existing ones.<br />\n<br />\n<span style="color: rgb(55\, 65\, 81)\; font-family: Söhne\, ui-sans-serif\, system-ui\, -apple-system\, &quot\;Segoe UI&quot\;\, Roboto\, Ubuntu\, Cantarell\, &quot\;Noto Sans&quot\;\, sans-serif\, &quot\;Helvetica Neue&quot\;\, Arial\, &quot\;Apple Color Emoji&quot\;\, &quot\;Segoe UI Emoji&quot\;\, &quot\;Segoe UI Symbol&quot\;\, &quot\;Noto Color Emoji&quot\;\; font-size: 16px\; white-space-collapse: preserve\;">Let&#39\;s come together in the spirit of collaboration and community. Your presence is the key to making this evening a success. See you there!</span></p>\n\n<div>&nbsp\;</div>\n
LOCATION:Railyard 83 Icehouse
UID:e.3411.707
SEQUENCE:3
DTSTAMP:20260424T081456Z
URL:https://members.rgvhcc.org/events/details/joint-mixer-with-alamo-chamber-of-commerce-707
END:VEVENT

END:VCALENDAR
