BEGIN:VCALENDAR
VERSION:2.0
PRODID:-//ChamberMaster//Event Calendar 2.0//EN
METHOD:PUBLISH
X-PUBLISHED-TTL:P3D
REFRESH-INTERVAL:P3D
CALSCALE:GREGORIAN
BEGIN:VEVENT
DTSTART:20230819T200000Z
DTEND:20230819T220000Z
X-MICROSOFT-CDO-ALLDAYEVENT:FALSE
SUMMARY:Kendra Scott Gives Back to the RGVHCC
DESCRIPTION:Enter code GIVEBACK-ELSVD for 20% of your purchase at Kendra Scott will benefit the Rio Grande Valley Hispanic Chamber\n\n\n\nCode will be active online for 48 hours
X-ALT-DESC;FMTTYPE=text/html:Enter code <span style="color:#B22222\;"><u><strong>GIVEBACK-ELSVD</strong></u> </span>for 20% of your purchase at Kendra Scott will benefit the Rio Grande Valley Hispanic Chamber<br />\n<br />\nCode will be active online for 48 hours
LOCATION:La Plaza Mall - Kendra Scott
UID:e.3411.610
SEQUENCE:3
DTSTAMP:20260424T163447Z
URL:https://members.rgvhcc.org/events/details/kendra-scott-gives-back-to-the-rgvhcc-610
END:VEVENT

END:VCALENDAR
