BEGIN:VCALENDAR
VERSION:2.0
PRODID:-//ChamberMaster//Event Calendar 2.0//EN
METHOD:PUBLISH
X-PUBLISHED-TTL:P3D
REFRESH-INTERVAL:P3D
CALSCALE:GREGORIAN
BEGIN:VEVENT
DTSTART:20240918T130000Z
DTEND:20240918T220000Z
X-MICROSOFT-CDO-ALLDAYEVENT:FALSE
SUMMARY:Latina Leadership Conference 2024 "Con Fuerza y Corazon"
DESCRIPTION:Join us at the #RGVHCC as we unite experts\, entrepreneurs\, and innovators from diverse backgrounds at The Latina Leadership Conference on September 18\, 2024. This empowering event promises participants a full day of inspiring insights and interactive workshops led by keynote speakers and influential Latina leaders hailing from across the RGV. Prepare for an enriching experience as you immerse yourself in high-level discussions on women's leadership\, while also indulging in networking opportunities\, small business mentorship sessions\, and expanding your professional knowledge.\n\n\nFurthermore\, attendees will have the chance to explore a vibrant marketplace featuring 20 local vendors offering a variety of goods and services\, allowing you to support small businesses while connecting with like-minded individuals. Plus\, every participant will receive a Goody Bag sponsored by Walmart\, filled with exciting surprises to enhance your conference experience.\n\n\n\nCONFERENCE TOPICS:\n\nSocial Media Savvy: Essential Networking and Marketing Tips\n\nThis session will dive into the strategic use of social media platforms to enhance networking opportunities and implement effective marketing strategies. We will explore practical advice on utilizing analytics to measure success\, optimizing paid advertisements for broader reach\, and leveraging influencer partnerships to amplify messages. Whether you are a business owner\, marketer\, or professional looking to expand your digital presence\, this session will equip you with the knowledge and tools to harness the full potential of social media as a powerful networking and marketing tool.\n\n\n\nCompassionate Communication: Leading with Empathy\n\nThis session will explore the principles of compassionate communication\, emphasizing the importance of understanding and empathy in both personal and professional interactions.The discussion will highlight how leading with empathy can improve team dynamics\, foster a supportive work environment\, and enhance overall communication effectiveness. Through practical examples attendees will gain valuable skills to become more empathetic communicators and compassionate leaders.\n\n\n\nMindful Living: Prioritizing Mental Health & Well-Being\n\nThis session will aim to discuss unique mental health challenges women face today and to equip participants with practical strategies to thrive & flourish. Panelists will cover the importance of maintaining a healthy work-life balance\, overcoming social stigmas\, and the accessibility of mental health care.This session is designed to empower participants with the knowledge and resources to support their own mental health and that of others around them.\n\n\n\nJet-Setter Secrets: Enhancing Your Journey\n\nThis session will uncover the secrets of seamless travel. Our panel of seasoned travelers will share their insider tips on finding the best deals\, maximizing frequent flyer miles\, and staying safe while exploring new destinations. Whether you?re traveling for work or leisure\, this session will help you enhance your journey with confidence and style.\n\n\n\nBridging Generations: Thriving in a Multigenerational Workplace\n\nThis session focuses on understanding and leveraging the strengths of a multigenerational workforce. Panelists will discuss the unique characteristics and communication styles of different age groups\, and provide strategies for fostering collaboration and mutual respect. Attendees will gain insights on how to navigate age dynamics\, create inclusive work environments\, and harness the power of diverse perspectives for organizational success.\n\n\n\nAI in Action: Shaping the Future of Work and Life\n\nThis session will feature discussions on how AI is reshaping job roles\, enhancing productivity\, and driving innovation. Our panel will share practical insights on staying ahead in an AI-driven world and the skills needed to thrive in the digital age\, while understanding how to leverage AI for personal and professional growth.\n\n\n\nEnhancing Productivity & Professional Growth for Latina Leaders\n\nThis session is dedicated to helping Latina leaders enhance their productivity and professional development. Panelists will share strategies for effective time management\, goal setting\, and leveraging professional networks. Attendees will gain insights on balancing career aspirations with personal commitments\, and learn how to cultivate a mindset that fuels continuous improvement and success. \n\n \n\n\n\nStrong and Safe: Empowering Women Through Self-Defense\n\nLearn essential self-defense techniques to boost your confidence and personal safety. This interactive session will feature demonstrations by self-defense experts who will teach practical moves to protect yourself in various situations. Attendees will also gain insights on situational awareness and the importance of mental preparedness.\n\n\n\nPersuasive Leadership: Influencing Others Effectively\n\nDiscover the secrets of persuasive leadership and how to effectively influence others. This session will explore techniques for building trust\, communicating compelling visions\, and inspiring action. Our panel of experienced leaders will share real-world examples and practical advice on how to navigate challenging conversations\, motivate teams\, and drive change. Attendees will leave with enhanced leadership skills that will enable them to lead with impact and authenticity.\n\n\n\nOwning Your Success: Leading with Confidence \n\nThis session will explore the nature of imposter syndrome. Participants will learn strategies to recognize and overcome these feelings\, fostering a stronger sense of self-confidence and self-worth. Through expert insights and practical exercises\, attendees will discover tools to challenge negative self-perceptions\, celebrate their achievements\, and embrace their capabilities. This session aims to empower individuals to move beyond imposter syndrome\, building a foundation of confidence and resilience that supports sustained success and well-being.\n\n\n\nInsurance - A Critical Component of Financial Literacy\n\nThere are many types of insurance policies to consider:  homeowner?s\, car\, life insurance which provides your family with money should you die at a young age\; and health insurance which provides you with coverage should you get sick or injured.  A critical illness without insurance can cost you thousands of dollars and lead you to bankruptcy.
X-ALT-DESC;FMTTYPE=text/html:<div><span style="font-size:12px\;"><span style="font-family:arial\;">Join us at the #RGVHCC as we unite experts\, entrepreneurs\, and innovators from diverse backgrounds at The Latina Leadership Conference on September 18\, 2024. This empowering event promises participants a full day of inspiring insights and interactive workshops led by keynote speakers and influential Latina leaders hailing from across the RGV. Prepare for an enriching experience as you immerse yourself in high-level discussions on women&#39\;s leadership\, while also indulging in networking opportunities\, small business mentorship sessions\, and expanding your professional knowledge.</span></span></div>\n\n<div>\n<p style="border: 0px solid rgb(227\, 227\, 227)\; box-sizing: border-box\; --tw-border-spacing-x: 0\; --tw-border-spacing-y: 0\; --tw-translate-x: 0\; --tw-translate-y: 0\; --tw-rotate: 0\; --tw-skew-x: 0\; --tw-skew-y: 0\; --tw-scale-x: 1\; --tw-scale-y: 1\; --tw-pan-x: \; --tw-pan-y: \; --tw-pinch-zoom: \; --tw-scroll-snap-strictness: proximity\; --tw-gradient-from-position: \; --tw-gradient-via-position: \; --tw-gradient-to-position: \; --tw-ordinal: \; --tw-slashed-zero: \; --tw-numeric-figure: \; --tw-numeric-spacing: \; --tw-numeric-fraction: \; --tw-ring-inset: \; --tw-ring-offset-width: 0px\; --tw-ring-offset-color: #fff\; --tw-ring-color: rgba(69\,89\,164\,.5)\; --tw-ring-offset-shadow: 0 0 transparent\; --tw-ring-shadow: 0 0 transparent\; --tw-shadow: 0 0 transparent\; --tw-shadow-colored: 0 0 transparent\; --tw-blur: \; --tw-brightness: \; --tw-contrast: \; --tw-grayscale: \; --tw-hue-rotate: \; --tw-invert: \; --tw-saturate: \; --tw-sepia: \; --tw-drop-shadow: \; --tw-backdrop-blur: \; --tw-backdrop-brightness: \; --tw-backdrop-contrast: \; --tw-backdrop-grayscale: \; --tw-backdrop-hue-rotate: \; --tw-backdrop-invert: \; --tw-backdrop-opacity: \; --tw-backdrop-saturate: \; --tw-backdrop-sepia: \; --tw-contain-size: \; --tw-contain-layout: \; --tw-contain-paint: \; --tw-contain-style: \; margin: 1.25em 0px\; color: rgb(13\, 13\, 13)\; font-family: Söhne\, ui-sans-serif\, system-ui\, -apple-system\, &quot\;Segoe UI&quot\;\, Roboto\, Ubuntu\, Cantarell\, &quot\;Noto Sans&quot\;\, sans-serif\, &quot\;Helvetica Neue&quot\;\, Arial\, &quot\;Apple Color Emoji&quot\;\, &quot\;Segoe UI Emoji&quot\;\, &quot\;Segoe UI Symbol&quot\;\, &quot\;Noto Color Emoji&quot\;\; font-size: 16px\; white-space-collapse: preserve\; background-color: rgb(255\, 255\, 255)\;"><span style="font-size:14px\;"><span style="font-family:arial\;"><span style="font-size:12px\;">Furthermore\, attendees will have the chance to explore a vibrant marketplace featuring 20 local vendors offering a variety of goods and services\, allowing you to support small businesses while connecting with like-minded individuals. Plus\, every participant will receive a Goody Bag sponsored by Walmart\, filled with exciting surprises to enhance your conference experience.</span><br />\n<br />\n<u><strong><span style="color:#FF0000\;">CONFERENCE TOPICS</span>:</strong></u></span></span></p>\n\n<div><strong><u>Social Media Savvy: Essential Networking and Marketing Tips</u></strong><br />\nThis session will dive into the strategic use of social media platforms to enhance networking opportunities and implement effective marketing strategies. We will explore practical advice on utilizing analytics to measure success\, optimizing paid advertisements for broader reach\, and leveraging influencer partnerships to amplify messages. Whether you are a business owner\, marketer\, or professional looking to expand your digital presence\, this session will equip you with the knowledge and tools to harness the full potential of social media as a powerful networking and marketing tool.<br />\n<br />\n<u><strong>Compassionate Communication: Leading with Empathy</strong></u><br />\nThis session will explore the principles of compassionate communication\, emphasizing the importance of understanding and empathy in both personal and professional interactions.The discussion will highlight how leading with empathy can improve team dynamics\, foster a supportive work environment\, and enhance overall communication effectiveness. Through practical examples attendees will gain valuable skills to become more empathetic communicators and compassionate leaders.<br />\n<br />\n<u><strong>Mindful Living: Prioritizing Mental Health &amp\; Well-Being</strong></u><br />\nThis session will aim to discuss unique mental health challenges women face today and to equip participants with practical strategies to thrive &amp\; flourish. Panelists will cover the importance of maintaining a healthy work-life balance\, overcoming social stigmas\, and the accessibility of mental health care.This session is designed to empower participants with the knowledge and resources to support their own mental health and that of others around them.<br />\n<br />\n<u><strong>Jet-Setter Secrets: Enhancing Your Journey</strong></u><br />\nThis session will uncover the secrets of seamless travel. Our panel of seasoned travelers will share their insider tips on finding the best deals\, maximizing frequent flyer miles\, and staying safe while exploring new destinations. Whether you?re traveling for work or leisure\, this session will help you enhance your journey with confidence and style.</div>\n\n<div><br />\n<u><strong>Bridging Generations: Thriving in a Multigenerational Workplace</strong></u><br />\nThis session focuses on understanding and leveraging the strengths of a multigenerational workforce. Panelists will discuss the unique characteristics and communication styles of different age groups\, and provide strategies for fostering collaboration and mutual respect. Attendees will gain insights on how to navigate age dynamics\, create inclusive work environments\, and harness the power of diverse perspectives for organizational success.<br />\n<br />\n<u><strong>AI in Action: Shaping the Future of Work and Life</strong></u><br />\nThis session will feature discussions on how AI is reshaping job roles\, enhancing productivity\, and driving innovation. Our panel will share practical insights on staying ahead in an AI-driven world and the skills needed to thrive in the digital age\, while understanding how to leverage AI for personal and professional growth.</div>\n\n<div><br />\n<u><strong>Enhancing Productivity &amp\; Professional Growth for Latina Leaders</strong></u><br />\nThis session is dedicated to helping Latina leaders enhance their productivity and professional development. Panelists will share strategies for effective time management\, goal setting\, and leveraging professional networks. Attendees will gain insights on balancing career aspirations with personal commitments\, and learn how to cultivate a mindset that fuels continuous improvement and success.&nbsp\;</div>\n\n<div>&nbsp\;</div>\n\n<div><br />\n<u><strong>Strong and Safe: Empowering Women Through Self-Defense</strong></u><br />\nLearn essential self-defense techniques to boost your confidence and personal safety. This interactive session will feature demonstrations by self-defense experts who will teach practical moves to protect yourself in various situations. Attendees will also gain insights on situational awareness and the importance of mental preparedness.<br />\n<br />\n<u><strong>Persuasive Leadership: Influencing Others Effectively</strong></u><br />\nDiscover the secrets of persuasive leadership and how to effectively influence others. This session will explore techniques for building trust\, communicating compelling visions\, and inspiring action. Our panel of experienced leaders will share real-world examples and practical advice on how to navigate challenging conversations\, motivate teams\, and drive change. Attendees will leave with enhanced leadership skills that will enable them to lead with impact and authenticity.</div>\n\n<div><br />\n<u><strong>Owning Your Success: Leading with Confidence&nbsp\;</strong></u><br />\nThis session will explore the nature of imposter syndrome. Participants will learn strategies to recognize and overcome these feelings\, fostering a stronger sense of self-confidence and self-worth. Through expert insights and practical exercises\, attendees will discover tools to challenge negative self-perceptions\, celebrate their achievements\, and embrace their capabilities. This session aims to empower individuals to move beyond imposter syndrome\, building a foundation of confidence and resilience that supports sustained success and well-being.<br />\n<br />\n<u><strong>Insurance - A Critical Component of Financial Literacy</strong></u><br />\nThere are many types of insurance policies to consider:&nbsp\; homeowner?s\, car\, life insurance which provides your family with money should you die at a young age\; and health insurance which provides you with coverage should you get sick or injured.&nbsp\; A critical illness without insurance can cost you thousands of dollars and lead you to bankruptcy.</div>\n\n<div>&nbsp\;</div>\n\n<div>&nbsp\;</div>\n\n<div>&nbsp\;</div>\n\n<div>&nbsp\;</div>\n\n<div>&nbsp\;</div>\n\n<div>&nbsp\;</div>\n</div>\n
LOCATION:Mission Event Center
UID:e.3411.690
SEQUENCE:3
DTSTAMP:20260423T172553Z
URL:https://members.rgvhcc.org/events/details/latina-leadership-conference-2024-con-fuerza-y-corazon-690
END:VEVENT

END:VCALENDAR
