BEGIN:VCALENDAR
VERSION:2.0
PRODID:-//ChamberMaster//Event Calendar 2.0//EN
METHOD:PUBLISH
X-PUBLISHED-TTL:P3D
REFRESH-INTERVAL:P3D
CALSCALE:GREGORIAN
BEGIN:VEVENT
DTSTART:20230914T140000Z
DTEND:20230914T220000Z
X-MICROSOFT-CDO-ALLDAYEVENT:FALSE
SUMMARY:Latina Leadership Conference "See Her Be Her - She Se Puede!" 2023
DESCRIPTION:Join the #RGVHCC as we bring together experts\, entrepreneurs & innovators from various backgrounds at The Latina Leadership Conference "She Se Puede" on September 14th\, 2023 at the Mission Event Center. Participants will get a full day of inspiring insights & interactive workshops from keynote speakers &  influential Latina leaders from all around the RGV. There will be plenty of shopping too! Those attended will also receive a Goody Bag sponsored by Walmart. This conference will include multiple breakout sessions covering high-level topics surrounding women leadership while also highlighting networking\, small business mentorship & expanding the professional knowledge of tomorrow's Latina women leaders. Furthermore\, the conference will feature  20 local vendors where attendees will be able to tour goods & services while supporting small-businesses. Regardless if you are seeking personal growth\, entrepreneurial tips or professional inspiration\, The Latina Leadership Conference is the place to network\, grow & embrace "She Se Puede!".\n\n\n\nDon't miss your opportunity to attend the TOP Latina Leadership Conference in the RGV.
X-ALT-DESC;FMTTYPE=text/html:<div class="kvgmc6g5 cxmmr5t8 oygrvhab hcukyx3x c1et5uql" style="overflow-wrap: break-word\; margin: 0px\; font-family: system-ui\, -apple-system\, &quot\;system-ui&quot\;\, &quot\;.SFNSText-Regular&quot\;\, sans-serif\; color: rgb(5\, 5\, 5)\; font-size: 15px\;">Join the #RGVHCC as we bring together experts\, entrepreneurs &amp\; innovators from various backgrounds at The Latina Leadership Conference "She Se Puede" on September 14th\, 2023 at the Mission Event Center. Participants will get a full day of inspiring insights &amp\; interactive workshops from keynote speakers &amp\;&nbsp\; influential Latina leaders from all around the RGV. There will be plenty of shopping too! Those attended will also receive a Goody Bag sponsored by Walmart. This conference will include multiple breakout sessions covering high-level topics surrounding women leadership while also highlighting networking\, small business mentorship &amp\; expanding the professional knowledge of tomorrow's Latina women leaders. Furthermore\, the conference will feature&nbsp\; 20 local vendors where attendees will be able to tour goods &amp\; services while supporting small-businesses.&nbsp\;Regardless if you are seeking personal growth\, entrepreneurial tips or professional inspiration\, The Latina Leadership Conference is the place to network\, grow &amp\; embrace "She Se Puede!".<br>\n<br>\nDon't miss your opportunity to attend the TOP Latina Leadership Conference in the RGV.&nbsp\;</div>\n
LOCATION:Mission Event Center
UID:e.3411.495
SEQUENCE:3
DTSTAMP:20260424T152851Z
URL:https://members.rgvhcc.org/events/details/latina-leadership-conference-see-her-be-her-she-se-puede-2023-495
END:VEVENT

END:VCALENDAR
