BEGIN:VCALENDAR
VERSION:2.0
PRODID:-//ChamberMaster//Event Calendar 2.0//EN
METHOD:PUBLISH
X-PUBLISHED-TTL:P3D
REFRESH-INTERVAL:P3D
CALSCALE:GREGORIAN
BEGIN:VEVENT
DTSTART:20230830T150000Z
DTEND:20230830T160000Z
X-MICROSOFT-CDO-ALLDAYEVENT:FALSE
SUMMARY:Live with RGVHCC - AT&T
DESCRIPTION:Join us for the next "Live with RGVHCC" featuring our Corporate Partner\, J.D. Salinas III \, Vice President External Affairs with AT&T
X-ALT-DESC;FMTTYPE=text/html:<div data-block="true" data-editor="9g2ke" data-offset-key="cm00a-0-0" style="font-family: -apple-system\, &quot\;system-ui&quot\;\, &quot\;Segoe UI&quot\;\, Roboto\, Helvetica\, Arial\, sans-serif\, &quot\;Apple Color Emoji&quot\;\, &quot\;Segoe UI Emoji&quot\;\, &quot\;Segoe UI Symbol&quot\;\; color: rgb(28\, 43\, 51)\; font-size: 14px\; white-space-collapse: preserve\; background-color: rgb(255\, 255\, 255)\;">\n<div class="_1mf _1mj" data-offset-key="cm00a-0-0" style="position: relative\; direction: ltr\; font-family: inherit\;"><span data-offset-key="cm00a-0-0" style="font-family: inherit\;">Join us for the next &quot\;Live with RGVHCC&quot\; featuring our Corporate Partner\, J.D. Salinas III \, Vice President External Affairs with AT&amp\;T&#128161\;</span></div>\n</div>\n\n<div data-block="true" data-editor="9g2ke" data-offset-key="bp9tf-0-0" style="font-family: -apple-system\, &quot\;system-ui&quot\;\, &quot\;Segoe UI&quot\;\, Roboto\, Helvetica\, Arial\, sans-serif\, &quot\;Apple Color Emoji&quot\;\, &quot\;Segoe UI Emoji&quot\;\, &quot\;Segoe UI Symbol&quot\;\; color: rgb(28\, 43\, 51)\; font-size: 14px\; white-space-collapse: preserve\; background-color: rgb(255\, 255\, 255)\;">\n<div class="_1mf _1mj" data-offset-key="bp9tf-0-0" style="position: relative\; direction: ltr\; font-family: inherit\;">&nbsp\;</div>\n</div>\n
LOCATION:Zoom ID: 830 7243 8526
UID:e.3411.614
SEQUENCE:3
DTSTAMP:20260424T163326Z
URL:https://members.rgvhcc.org/events/details/live-with-rgvhcc-at-t-614
END:VEVENT

END:VCALENDAR
