BEGIN:VCALENDAR
VERSION:2.0
PRODID:-//ChamberMaster//Event Calendar 2.0//EN
METHOD:PUBLISH
X-PUBLISHED-TTL:P3D
REFRESH-INTERVAL:P3D
CALSCALE:GREGORIAN
BEGIN:VEVENT
DTSTART:20250827T190000Z
DTEND:20250827T200000Z
X-MICROSOFT-CDO-ALLDAYEVENT:FALSE
SUMMARY:Lock It Down! Cybersecurity Tactics for Small Businesses
DESCRIPTION:Small businesses are increasingly targeted by cyber threats\, often with limited resources to respond.\n\n\n\nThis session equips business owners with practical knowledge and tools to protect their operations\, customers\, and reputation.\n\n\n\nSession highlights:\n\n  Learn how cyber threats impact small businesses and why awareness matters.\n\n  Recognize phishing\, ransomware\, and other risks that target small enterprises\n\n  Hear about local incidents to understand vulnerabilities close to home.\n\n  Understand the financial\, legal\, and operational consequences of cyberattacks.\n\n  Build a foundation for safer business practices and data protection.   Develop daily habits to reduce risk and improve security.   Discover affordable solutions tailored for small business needs.\n\n  Foster awareness among staff and build a security-first mindset.\n\n  Stay informed about regulations and responsibilities affecting your business.\n\n\n\nPresented by the UTRGV SBDC in partnership with the UTRGV APEX Accelerator and with promotional support from participating resource partners\, including the Alton Economic Development Corporation\; Brownsville Chamber of Commerce\; Consulate of Mexico in McAllen\; Economic Development Corporation of Weslaco\; Edinburg Chamber of Commerce\; Elsa Economic Development Corporation\; Greater Alton Chamber of Commerce\; Greater Pharr Chamber of Commerce\; Greater Mission Chamber of Commerce\; Harlingen Economic Development Corporation\; Hidalgo Economic Development Corporation\; Palmview Chamber of Commerce\; Rio Grande City Economic Development Corporation\; Rio Grande City Greater Chamber of Commerce\; Rio Grande City Public Library\; Rio Grande Valley Hispanic Chamber of Commerce\; San Benito Chamber of Commerce\; South Padre Island Chamber of Commerce\; Starr County Industrial Foundation\; and Weslaco Area Chamber of Commerce & Visitors Center.\n\n\n\nSign Up: https://utrgv.zoom.us/webinar/register/1617532967070/WN_5rMBpAJxS_q36p-SqDcLOA
X-ALT-DESC;FMTTYPE=text/html:<span style="color: rgb(35\, 35\, 51)\; font-family: &quot\;Helvetica Neue&quot\;\, Helvetica\, Arial\, sans-serif\; font-size: 14px\; white-space-collapse: preserve\;">Small businesses are increasingly targeted by cyber threats\, often with limited resources to respond.<br />\n<br />\nThis session equips business owners with practical knowledge and tools to protect their operations\, customers\, and reputation.<br />\n<br />\nSession highlights:<br />\n&bull\; Learn how cyber threats impact small businesses and why awareness matters.<br />\n&bull\; Recognize phishing\, ransomware\, and other risks that target small enterprises<br />\n&bull\; Hear about local incidents to understand vulnerabilities close to home.<br />\n&bull\; Understand the financial\, legal\, and operational consequences of cyberattacks.<br />\n&bull\; Build a foundation for safer business practices and data protection. &bull\; Develop daily habits to reduce risk and improve security. &bull\; Discover affordable solutions tailored for small business needs.<br />\n&bull\; Foster awareness among staff and build a security-first mindset.<br />\n&bull\; Stay informed about regulations and responsibilities affecting your business.<br />\n<br />\nPresented by the UTRGV SBDC in partnership with the UTRGV APEX Accelerator and with promotional support from participating resource partners\, including the Alton Economic Development Corporation\; Brownsville Chamber of Commerce\; Consulate of Mexico in McAllen\; Economic Development Corporation of Weslaco\; Edinburg Chamber of Commerce\; Elsa Economic Development Corporation\; Greater Alton Chamber of Commerce\; Greater Pharr Chamber of Commerce\; Greater Mission Chamber of Commerce\; Harlingen Economic Development Corporation\; Hidalgo Economic Development Corporation\; Palmview Chamber of Commerce\; Rio Grande City Economic Development Corporation\; Rio Grande City Greater Chamber of Commerce\; Rio Grande City Public Library\; Rio Grande Valley Hispanic Chamber of Commerce\; San Benito Chamber of Commerce\; South Padre Island Chamber of Commerce\; Starr County Industrial Foundation\; and Weslaco Area Chamber of Commerce &amp\; Visitors Center.</span><br />\n<br />\nSign Up:&nbsp\;<a href="https://utrgv.zoom.us/webinar/register/1617532967070/WN_5rMBpAJxS_q36p-SqDcLOA">https://utrgv.zoom.us/webinar/register/1617532967070/WN_5rMBpAJxS_q36p-SqDcLOA</a>
LOCATION:
UID:e.3411.1031
SEQUENCE:3
DTSTAMP:20260422T112508Z
URL:https://members.rgvhcc.org/events/details/lock-it-down-cybersecurity-tactics-for-small-businesses-1031
END:VEVENT

END:VCALENDAR
