BEGIN:VCALENDAR
VERSION:2.0
PRODID:-//ChamberMaster//Event Calendar 2.0//EN
METHOD:PUBLISH
X-PUBLISHED-TTL:P3D
REFRESH-INTERVAL:P3D
CALSCALE:GREGORIAN
BEGIN:VEVENT
DTSTART:20230829T140000Z
DTEND:20230829T150000Z
X-MICROSOFT-CDO-ALLDAYEVENT:FALSE
SUMMARY:Low-Content Publishing Workshop
DESCRIPTION:Join us for an exciting in-person event\, the Amazon KDP Low Content Publishing Workshop! Get ready to dive into the world of low-content publishing and learn how to create and sell your own journals\, notebooks\, and other low-content books on Amazon's Kindle Direct Publishing platform.\n\n\n\nDuring this workshop\, you'll gain valuable insights from industry experts who have successfully built their low-content publishing businesses. Discover the secrets to creating eye-catching covers\, designing interior pages\, and optimizing your books for maximum visibility and sales on Amazon.\n\n \n\nWhether you're a seasoned publisher or just starting out\, this workshop provides practical tips\, strategies\, and resources to help you succeed in the low-content publishing world. Don't miss this opportunity to connect with like-minded individuals\, learn from the best\, and take your publishing journey to new heights!
X-ALT-DESC;FMTTYPE=text/html:<span style="color:#000000\;"><span style="font-family:arial\;"><span style="font-size:18.6667px\;">Join us for an exciting in-person event\, the Amazon KDP Low Content Publishing Workshop! Get ready to dive into the world of low-content publishing and learn how to create and sell your own journals\, notebooks\, and other low-content books on Amazon&#39\;s Kindle Direct Publishing platform.</span><br />\n<br />\n<span style="font-size:18.6667px\;">During this workshop\, you&#39\;ll gain valuable insights from industry experts who have successfully built their low-content publishing businesses. Discover the secrets to creating eye-catching covers\, designing interior pages\, and optimizing your books for maximum visibility and sales on Amazon.</span><br />\n&nbsp\;<br />\n<span style="font-size:18.6667px\;">Whether you&#39\;re a seasoned publisher or just starting out\, this workshop provides practical tips\, strategies\, and resources to help you succeed in the low-content publishing world. Don&#39\;t miss this opportunity to connect with like-minded individuals\, learn from the best\, and take your publishing journey to new heights!</span></span></span>
LOCATION:801 E. Fern Ave
UID:e.3411.604
SEQUENCE:3
DTSTAMP:20260424T162437Z
URL:https://members.rgvhcc.org/events/details/low-content-publishing-workshop-604
END:VEVENT

END:VCALENDAR
