BEGIN:VCALENDAR
VERSION:2.0
PRODID:-//ChamberMaster//Event Calendar 2.0//EN
METHOD:PUBLISH
X-PUBLISHED-TTL:P3D
REFRESH-INTERVAL:P3D
CALSCALE:GREGORIAN
BEGIN:VEVENT
DTSTART:20250821T223000Z
DTEND:20250821T230000Z
X-MICROSOFT-CDO-ALLDAYEVENT:FALSE
SUMMARY:LSNB - Fortifying Your Future: Medicare\, Social Security and Wealth Strategies
DESCRIPTION:This seminar will provide insight on:\n\n\n	Medicare and Social Security strategies\n	Ways to strengthen and protect your retirement plans\n	Wealth management strategies for long-term security\n\n\n\nEvent Details\n\n\n	Date: Wednesday\, August 21\, 2025\n	Suggested Arrival Time (Registration) : 5:30   5:45 PM\n	Networking: 5:45   6:00 PM\n	Presentation: 6:00   7:30 PM\n	Location: LSNB Corporate Office   4th Floor\n\n	520 E. Nolana Ave.\, McAllen\, TX 78504\n\n\n \n\nFeatured Speakers\n\n\n	Yvonne Silguero\, First Vice President & Financial Advisor   LSNB Investments\n	Carlos Hilario\, Senior Vice President & Director of Wealth Management & Trust   LSNB
X-ALT-DESC;FMTTYPE=text/html:<p style="box-sizing: border-box\; margin: 0px\; font-size: 12pt\; color: rgb(36\, 36\, 36)\; font-family: Aptos\, sans-serif\;"><span style="font-size:12px\;"><span style="font-family:arial\;"><span data-olk-copy-source="MessageBody" style="box-sizing: border-box\; border: 0px\; font-style: inherit\; font-variant: inherit\; font-weight: inherit\; font-stretch: inherit\; line-height: inherit\; font-optical-sizing: inherit\; font-size-adjust: inherit\; font-kerning: inherit\; font-feature-settings: inherit\; font-variation-settings: inherit\; margin: 0px\; padding: 0px\; vertical-align: baseline\; color: inherit\;">This seminar will provide insight on:</span></span></span></p>\n\n<ul style="box-sizing: border-box\; margin-top: 0px\; margin-bottom: 0px\; color: rgb(36\, 36\, 36)\; font-family: &quot\;Segoe UI&quot\;\, &quot\;Segoe UI Web (West European)&quot\;\, -apple-system\, BlinkMacSystemFont\, Roboto\, &quot\;Helvetica Neue&quot\;\, sans-serif\; font-size: 15px\;" type="disc">\n	<li style="box-sizing: border-box\; margin: 0px\; font-size: 12pt\; font-family: Aptos\, sans-serif\;"><span style="font-size:12px\;"><span style="font-family:arial\;"><span style="box-sizing: border-box\; border: 0px\; font-style: inherit\; font-variant: inherit\; font-weight: inherit\; font-stretch: inherit\; line-height: inherit\; font-optical-sizing: inherit\; font-size-adjust: inherit\; font-kerning: inherit\; font-feature-settings: inherit\; font-variation-settings: inherit\; margin: 0px\; padding: 0px\; vertical-align: baseline\; color: inherit\;">Medicare and Social Security strategies</span></span></span></li>\n	<li style="box-sizing: border-box\; margin: 0px\; font-size: 12pt\; font-family: Aptos\, sans-serif\;"><span style="font-size:12px\;"><span style="font-family:arial\;"><span style="box-sizing: border-box\; border: 0px\; font-style: inherit\; font-variant: inherit\; font-weight: inherit\; font-stretch: inherit\; line-height: inherit\; font-optical-sizing: inherit\; font-size-adjust: inherit\; font-kerning: inherit\; font-feature-settings: inherit\; font-variation-settings: inherit\; margin: 0px\; padding: 0px\; vertical-align: baseline\; color: inherit\;">Ways to strengthen and protect your retirement plans</span></span></span></li>\n	<li style="box-sizing: border-box\; margin: 0px\; font-size: 12pt\; font-family: Aptos\, sans-serif\;"><span style="font-size:12px\;"><span style="font-family:arial\;"><span style="box-sizing: border-box\; border: 0px\; font-style: inherit\; font-variant: inherit\; font-weight: inherit\; font-stretch: inherit\; line-height: inherit\; font-optical-sizing: inherit\; font-size-adjust: inherit\; font-kerning: inherit\; font-feature-settings: inherit\; font-variation-settings: inherit\; margin: 0px\; padding: 0px\; vertical-align: baseline\; color: inherit\;">Wealth management strategies for long-term security</span></span></span></li>\n</ul>\n\n<div style="box-sizing: border-box\; outline: 0px\; color: rgb(102\, 102\, 102)\; font-size: 12pt\; font-family: Aptos\, sans-serif\; margin: 0px\;">\n<p style="box-sizing: border-box\; margin: 0px\; color: rgb(36\, 36\, 36)\; font-size: 12pt\;"><span style="font-size:12px\;"><span style="font-family:arial\;"><span style="box-sizing: border-box\; font-weight: bolder\;"><span data-olk-copy-source="MessageBody" style="box-sizing: border-box\; border: 0px\; font-style: inherit\; font-variant: inherit\; font-weight: inherit\; font-stretch: inherit\; line-height: inherit\; font-optical-sizing: inherit\; font-size-adjust: inherit\; font-kerning: inherit\; font-feature-settings: inherit\; font-variation-settings: inherit\; margin: 0px\; padding: 0px\; vertical-align: baseline\; color: inherit\;">Event Details</span></span></span></span></p>\n\n<ul style="box-sizing: border-box\; margin-top: 0px\; margin-bottom: 0px\; color: rgb(36\, 36\, 36)\; font-family: &quot\;Segoe UI&quot\;\, &quot\;Segoe UI Web (West European)&quot\;\, -apple-system\, BlinkMacSystemFont\, Roboto\, &quot\;Helvetica Neue&quot\;\, sans-serif\; font-size: 15px\;" type="disc">\n	<li style="box-sizing: border-box\; margin: 0px\; font-size: 12pt\; font-family: Aptos\, sans-serif\;"><span style="font-size:12px\;"><span style="font-family:arial\;"><span style="box-sizing: border-box\; border: 0px\; font-style: inherit\; font-variant: inherit\; font-weight: inherit\; font-stretch: inherit\; line-height: inherit\; font-optical-sizing: inherit\; font-size-adjust: inherit\; font-kerning: inherit\; font-feature-settings: inherit\; font-variation-settings: inherit\; margin: 0px\; padding: 0px\; vertical-align: baseline\; color: inherit\;">Date: Wednesday\, August 21\, 2025</span></span></span></li>\n	<li style="box-sizing: border-box\; margin: 0px\; font-size: 12pt\; font-family: Aptos\, sans-serif\;"><span style="font-size:12px\;"><span style="font-family:arial\;"><span style="box-sizing: border-box\; border: 0px\; font-style: inherit\; font-variant: inherit\; font-weight: inherit\; font-stretch: inherit\; line-height: inherit\; font-optical-sizing: inherit\; font-size-adjust: inherit\; font-kerning: inherit\; font-feature-settings: inherit\; font-variation-settings: inherit\; margin: 0px\; padding: 0px\; vertical-align: baseline\; color: inherit\;">Suggested Arrival Time (Registration) : 5:30 &ndash\; 5:45 PM</span></span></span></li>\n	<li style="box-sizing: border-box\; margin: 0px\; font-size: 12pt\; font-family: Aptos\, sans-serif\;"><span style="font-size:12px\;"><span style="font-family:arial\;"><span style="box-sizing: border-box\; border: 0px\; font-style: inherit\; font-variant: inherit\; font-weight: inherit\; font-stretch: inherit\; line-height: inherit\; font-optical-sizing: inherit\; font-size-adjust: inherit\; font-kerning: inherit\; font-feature-settings: inherit\; font-variation-settings: inherit\; margin: 0px\; padding: 0px\; vertical-align: baseline\; color: inherit\;">Networking: 5:45 &ndash\; 6:00 PM</span></span></span></li>\n	<li style="box-sizing: border-box\; margin: 0px\; font-size: 12pt\; font-family: Aptos\, sans-serif\;"><span style="font-size:12px\;"><span style="font-family:arial\;"><span style="box-sizing: border-box\; border: 0px\; font-style: inherit\; font-variant: inherit\; font-weight: inherit\; font-stretch: inherit\; line-height: inherit\; font-optical-sizing: inherit\; font-size-adjust: inherit\; font-kerning: inherit\; font-feature-settings: inherit\; font-variation-settings: inherit\; margin: 0px\; padding: 0px\; vertical-align: baseline\; color: inherit\;">Presentation: 6:00 &ndash\; 7:30 PM</span></span></span></li>\n	<li style="box-sizing: border-box\; margin: 0px\; font-size: 12pt\; font-family: Aptos\, sans-serif\;"><span style="font-size:12px\;"><span style="font-family:arial\;"><span style="box-sizing: border-box\; border: 0px\; font-style: inherit\; font-variant: inherit\; font-weight: inherit\; font-stretch: inherit\; line-height: inherit\; font-optical-sizing: inherit\; font-size-adjust: inherit\; font-kerning: inherit\; font-feature-settings: inherit\; font-variation-settings: inherit\; margin: 0px\; padding: 0px\; vertical-align: baseline\; color: inherit\;">Location: LSNB Corporate Office &ndash\; 4th Floor<br style="box-sizing: border-box\;" />\n	520 E. Nolana Ave.\, McAllen\, TX 78504</span></span></span></li>\n</ul>\n\n<p style="box-sizing: border-box\; margin: 0px\; color: rgb(36\, 36\, 36)\; font-size: 12pt\;"><span style="font-size:12px\;"><span style="font-family:arial\;"><span style="box-sizing: border-box\; border: 0px\; font-style: inherit\; font-variant: inherit\; font-weight: inherit\; font-stretch: inherit\; line-height: inherit\; font-optical-sizing: inherit\; font-size-adjust: inherit\; font-kerning: inherit\; font-feature-settings: inherit\; font-variation-settings: inherit\; margin: 0px\; padding: 0px\; vertical-align: baseline\; color: inherit\;">&nbsp\;</span></span></span></p>\n\n<p style="box-sizing: border-box\; margin: 0px\; color: rgb(36\, 36\, 36)\; font-size: 12pt\;"><span style="font-size:12px\;"><span style="font-family:arial\;"><span style="box-sizing: border-box\; font-weight: bolder\;"><span style="box-sizing: border-box\; border: 0px\; font-style: inherit\; font-variant: inherit\; font-weight: inherit\; font-stretch: inherit\; line-height: inherit\; font-optical-sizing: inherit\; font-size-adjust: inherit\; font-kerning: inherit\; font-feature-settings: inherit\; font-variation-settings: inherit\; margin: 0px\; padding: 0px\; vertical-align: baseline\; color: inherit\;">Featured Speakers</span></span></span></span></p>\n\n<ul style="box-sizing: border-box\; margin-top: 0px\; margin-bottom: 0px\; outline: 0px\; color: rgb(36\, 36\, 36)\; font-family: &quot\;Segoe UI&quot\;\, &quot\;Segoe UI Web (West European)&quot\;\, -apple-system\, BlinkMacSystemFont\, Roboto\, &quot\;Helvetica Neue&quot\;\, sans-serif\; font-size: 15px\;" type="disc">\n	<li style="box-sizing: border-box\; margin: 0px\; font-size: 12pt\; font-family: Aptos\, sans-serif\;"><span style="font-size:12px\;"><span style="font-family:arial\;"><span style="box-sizing: border-box\; border: 0px\; font-style: inherit\; font-variant: inherit\; font-weight: inherit\; font-stretch: inherit\; line-height: inherit\; font-optical-sizing: inherit\; font-size-adjust: inherit\; font-kerning: inherit\; font-feature-settings: inherit\; font-variation-settings: inherit\; margin: 0px\; padding: 0px\; vertical-align: baseline\; color: inherit\;">Yvonne Silguero\, First Vice President &amp\; Financial Advisor &ndash\; LSNB Investments</span></span></span></li>\n	<li style="box-sizing: border-box\; margin: 0px\; outline: 0px\; font-size: 12pt\; font-family: Aptos\, sans-serif\;"><span style="font-size:12px\;"><span style="font-family:arial\;"><span style="box-sizing: border-box\; outline: 0px\; border: 0px\; font-style: inherit\; font-variant: inherit\; font-weight: inherit\; font-stretch: inherit\; line-height: inherit\; font-optical-sizing: inherit\; font-size-adjust: inherit\; font-kerning: inherit\; font-feature-settings: inherit\; font-variation-settings: inherit\; margin: 0px\; padding: 0px\; vertical-align: baseline\; color: inherit\;">Carlos Hilario\, Senior Vice President &amp\; Director of Wealth Management &amp\; Trust &ndash\; LSNB</span></span></span></li>\n</ul>\n</div>\n
LOCATION:
UID:e.3411.1034
SEQUENCE:3
DTSTAMP:20260422T113219Z
URL:https://members.rgvhcc.org/events/details/lsnb-fortifying-your-future-medicare-social-security-and-wealth-strategies-1034
END:VEVENT

END:VCALENDAR
