BEGIN:VCALENDAR
VERSION:2.0
PRODID:-//ChamberMaster//Event Calendar 2.0//EN
METHOD:PUBLISH
X-PUBLISHED-TTL:P3D
REFRESH-INTERVAL:P3D
CALSCALE:GREGORIAN
BEGIN:VEVENT
DTSTART:20241023T163000Z
DTEND:20241023T183000Z
X-MICROSOFT-CDO-ALLDAYEVENT:FALSE
SUMMARY:Luna Awards Luncheon - Rio Grande Valley
DESCRIPTION:The Luna Awards celebrates the achievements of women\, women-owned businesses and advocates who promote and develop women at all levels in Architecture\, Engineering and Construction\n\n \n\nCall for Nominations: CLOSED\n\nAward Categories\n\n Rio Grande Valley\n\n\n	A/E/C Firm of the Year\n	Service Firm of the Year\n	Woman of the Year A/E/C\n	Outstanding Administrative Professional of the Year
X-ALT-DESC;FMTTYPE=text/html:<p class="has-medium-font-size" style="border: none\; margin: 0px 0px 15px\; padding: 0px\; vertical-align: baseline\; overflow-wrap: break-word\; font-family: Arial\, sans-serif\; background-color: rgb(255\, 255\, 255)\; font-size: var(--wp--preset--font-size--medium) !important\;">The Luna Awards celebrates the achievements of women\, women-owned businesses and advocates who promote and develop women at all levels in Architecture\, Engineering and Construction<br />\n&nbsp\;</p>\n\n<p class="has-large-font-size" style="border: none\; margin: 0px 0px 15px\; padding: 0px\; vertical-align: baseline\; overflow-wrap: break-word\; font-family: Arial\, sans-serif\; background-color: rgb(255\, 255\, 255)\; font-size: var(--wp--preset--font-size--large) !important\;"><span style="font-size:22px\;"><strong style="border: none\; margin: 0px\; padding: 0px\; vertical-align: baseline\;"><span style="color:#B22222\;">Call for Nominations</span>:&nbsp\;</strong></span><span style="font-size:12px\;"><a href="https://form.jotform.com/241204657945056">C</a>LOSED</span></p>\n\n<div aria-hidden="true" class="wp-block-spacer" style="border: none\; margin: 0px\; padding: 0px\; vertical-align: baseline\; clear: both\; font-family: Arial\, Helvetica\, sans-serif\; background-color: rgb(255\, 255\, 255)\; height: 39px\;"><u><strong style="border: none\; margin: 0px\; padding: 0px\; vertical-align: baseline\;">Award Categories</strong></u></div>\n\n<p style="border: none\; margin: 0px 0px 15px\; padding: 0px\; vertical-align: baseline\; overflow-wrap: break-word\; font-size: 13px\; font-family: Arial\, sans-serif\; background-color: rgb(255\, 255\, 255)\;"><strong style="border: none\; margin: 0px\; padding: 0px\; vertical-align: baseline\;">&nbsp\;Rio Grande Valley</strong></p>\n\n<ul style="box-sizing: border-box\; border: none\; margin: 0px 0px 15px 16px\; padding: 0px\; vertical-align: baseline\; overflow-wrap: break-word\; font-size: 13px\; font-family: Arial\, Helvetica\, sans-serif\; background-color: rgb(255\, 255\, 255)\;">\n	<li style="border: none\; margin: 0px\; padding: 0px\; vertical-align: baseline\; overflow-wrap: break-word\; text-align: left\;">A/E/C Firm of the Year</li>\n	<li style="border: none\; margin: 0px\; padding: 0px\; vertical-align: baseline\; overflow-wrap: break-word\; text-align: left\;">Service Firm of the Year</li>\n	<li style="border: none\; margin: 0px\; padding: 0px\; vertical-align: baseline\; overflow-wrap: break-word\; text-align: left\;">Woman of the Year A/E/C</li>\n	<li style="border: none\; margin: 0px\; padding: 0px\; vertical-align: baseline\; overflow-wrap: break-word\; text-align: left\;">Outstanding Administrative Professional of the Year</li>\n</ul>\n
LOCATION:Doubletree Suites by Hilton McAllen
UID:e.3411.772
SEQUENCE:3
DTSTAMP:20260424T054702Z
URL:https://members.rgvhcc.org/events/details/luna-awards-luncheon-rio-grande-valley-772
END:VEVENT

END:VCALENDAR
