BEGIN:VCALENDAR
VERSION:2.0
PRODID:-//ChamberMaster//Event Calendar 2.0//EN
METHOD:PUBLISH
X-PUBLISHED-TTL:P3D
REFRESH-INTERVAL:P3D
CALSCALE:GREGORIAN
BEGIN:VEVENT
DTSTART:20250827T150000Z
DTEND:20250827T183000Z
X-MICROSOFT-CDO-ALLDAYEVENT:FALSE
SUMMARY:Luna Awards Luncheon - Rio Grande Valley
DESCRIPTION:The Luna Awards celebrates the achievements of women\, women-owned businesses and advocates who promote and develop women at all levels in Architecture\, Engineering and Construction\n\n\n\nCALL FOR NOMINATIONS\n\nAward Categories Rio Grande Valley:\n\n\n	A/E/C Firm of the Year\n	Service Firm of the Year\n	Woman of the Year A/E/C\n	Outstanding Administrative Professional of the Year
X-ALT-DESC;FMTTYPE=text/html:<p class="has-medium-font-size" style="border: none\; margin: 0px 0px 15px\; padding: 0px\; vertical-align: baseline\; overflow-wrap: break-word\; font-family: Arial\, sans-serif\; background-color: rgb(255\, 255\, 255)\; font-size: var(--wp--preset--font-size--medium) !important\;"><span style="font-size:14px\;">The Luna Awards celebrates the achievements of women\, women-owned businesses and advocates who promote and develop women at all levels in Architecture\, Engineering and Construction<br />\n<br />\n<strong>CALL FOR NOMINATIONS</strong></span></p>\n\n<p class="has-large-font-size" style="border: none\; margin: 0px 0px 15px\; padding: 0px\; vertical-align: baseline\; overflow-wrap: break-word\; font-family: Arial\, sans-serif\; background-color: rgb(255\, 255\, 255)\; font-size: var(--wp--preset--font-size--large) !important\;"><span style="font-size:14px\;"><span style="font-family: Arial\, Helvetica\, sans-serif\;">Award Categories Rio Grande Valley:</span></span></p>\n\n<ul style="box-sizing: border-box\; border: none\; margin: 0px 0px 15px 16px\; padding: 0px\; vertical-align: baseline\; overflow-wrap: break-word\; font-size: 13px\; font-family: Arial\, Helvetica\, sans-serif\; background-color: rgb(255\, 255\, 255)\;">\n	<li style="border: none\; margin: 0px\; padding: 0px\; vertical-align: baseline\; overflow-wrap: break-word\; text-align: left\;"><span style="font-size:14px\;">A/E/C Firm of the Year</span></li>\n	<li style="border: none\; margin: 0px\; padding: 0px\; vertical-align: baseline\; overflow-wrap: break-word\; text-align: left\;"><span style="font-size:14px\;">Service Firm of the Year</span></li>\n	<li style="border: none\; margin: 0px\; padding: 0px\; vertical-align: baseline\; overflow-wrap: break-word\; text-align: left\;"><span style="font-size:14px\;">Woman of the Year A/E/C</span></li>\n	<li style="border: none\; margin: 0px\; padding: 0px\; vertical-align: baseline\; overflow-wrap: break-word\; text-align: left\;"><span style="font-size:14px\;">Outstanding Administrative Professional of the Year</span></li>\n</ul>\n
LOCATION:
UID:e.3411.887
SEQUENCE:3
DTSTAMP:20260422T112850Z
URL:https://members.rgvhcc.org/events/details/luna-awards-luncheon-rio-grande-valley-887
END:VEVENT

END:VCALENDAR
