BEGIN:VCALENDAR
VERSION:2.0
PRODID:-//ChamberMaster//Event Calendar 2.0//EN
METHOD:PUBLISH
X-PUBLISHED-TTL:P3D
REFRESH-INTERVAL:P3D
CALSCALE:GREGORIAN
BEGIN:VEVENT
DTSTART:20240411T170000Z
DTEND:20240411T180000Z
X-MICROSOFT-CDO-ALLDAYEVENT:FALSE
SUMMARY:Lunch & Learn: How to Set Goals\, Build a Budget\, and Save
DESCRIPTION:LiftFund is a nonprofit small business champion that supports small businesses with affordable financing and business education. We've partnered with local organizations to create How to set goals\, build a budget\, and save.\n\nCome join us for an informative session all about saving and budgeting! Come learn about values and setting goals\, building a budget that works for you and saving for what matters. Get ready to learn\, ask questions\, and boost your financial knowledge!\n\nAttendees will receive:\n\nOne-on-one Advising - Individualized counseling focused on your next steps.\n\n\n\nBusiness Education - Build a business plan\, learn marketing\, financials & more.\n\n\n\nNetworking   Meet and Network with local small businesses.
X-ALT-DESC;FMTTYPE=text/html:<p style="font-family: -apple-system\, BlinkMacSystemFont\, Roboto\, &quot\;Helvetica Neue&quot\;\, Helvetica\, Tahoma\, Arial\, sans-serif\; margin: 0px\; padding: 0px\; box-sizing: border-box\; color: rgb(111\, 114\, 135)\; font-size: 16px\; line-height: 1.5rem\; background-color: rgb(255\, 255\, 255)\;"><span style="color:#000000\;">LiftFund is a nonprofit small business champion that supports small businesses with affordable financing and business education. We&#39\;ve partnered with local organizations to create How to set goals\, build a budget\, and save.</span></p>\n\n<p style="font-family: -apple-system\, BlinkMacSystemFont\, Roboto\, &quot\;Helvetica Neue&quot\;\, Helvetica\, Tahoma\, Arial\, sans-serif\; margin: 0px\; padding: 10px 0px 0px\; box-sizing: border-box\; color: rgb(111\, 114\, 135)\; font-size: 16px\; line-height: 1.5rem\; background-color: rgb(255\, 255\, 255)\;"><span style="color:#000000\;">Come join us for an informative session all about saving and budgeting! Come learn about values and setting goals\, building a budget that works for you and saving for what matters. Get ready to learn\, ask questions\, and boost your financial knowledge!</span></p>\n\n<p style="font-family: -apple-system\, BlinkMacSystemFont\, Roboto\, &quot\;Helvetica Neue&quot\;\, Helvetica\, Tahoma\, Arial\, sans-serif\; margin: 0px\; padding: 10px 0px 0px\; box-sizing: border-box\; color: rgb(111\, 114\, 135)\; font-size: 16px\; line-height: 1.5rem\; background-color: rgb(255\, 255\, 255)\;"><span style="color:#000000\;">Attendees will receive:</span></p>\n\n<p style="font-family: -apple-system\, BlinkMacSystemFont\, Roboto\, &quot\;Helvetica Neue&quot\;\, Helvetica\, Tahoma\, Arial\, sans-serif\; margin: 0px\; padding: 10px 0px 0px\; box-sizing: border-box\; color: rgb(111\, 114\, 135)\; font-size: 16px\; line-height: 1.5rem\; background-color: rgb(255\, 255\, 255)\;"><span style="color:#000000\;"><span style="font-weight: 700\; box-sizing: border-box\; padding-top: 0px\;">One-on-one Advising -</span>&nbsp\;Individualized counseling focused on your next steps.<br />\n<br style="box-sizing: border-box\;" />\n<span style="font-weight: 700\; box-sizing: border-box\;">Business Education -</span>&nbsp\;Build a business plan\, learn marketing\, financials &amp\; more.<br />\n<br style="box-sizing: border-box\;" />\n<span style="font-weight: 700\; box-sizing: border-box\;">Networking &ndash\;&nbsp\;</span>Meet and Network with local small businesses.</span></p>\n
LOCATION:RGV Hispanic Chamber of Commerce
UID:e.3411.744
SEQUENCE:3
DTSTAMP:20260424T070728Z
URL:https://members.rgvhcc.org/events/details/lunch-learn-how-to-set-goals-build-a-budget-and-save-744
END:VEVENT

END:VCALENDAR
