BEGIN:VCALENDAR
VERSION:2.0
PRODID:-//ChamberMaster//Event Calendar 2.0//EN
METHOD:PUBLISH
X-PUBLISHED-TTL:P3D
REFRESH-INTERVAL:P3D
CALSCALE:GREGORIAN
BEGIN:VEVENT
DTSTART:20260128T170000Z
DTEND:20260128T190000Z
X-MICROSOFT-CDO-ALLDAYEVENT:FALSE
SUMMARY:Lunch & Learn: Inversión Inmobiliaria 360
DESCRIPTION:Inversi n Inmobiliaria 360 es un taller almuerzo gratuito en espa ol dise ado para quienes desean aprender sobre el proceso completo del sector inmobiliario.\n\n\n\nEl evento abordar  temas clave como la compra\, venta e inversi n de propiedades\, as  como remodelaci n y trabajos por contrato. Contar  con la participaci n de Ferdi Esquivel\, de Freshcoat Painters (Pharr)\, y Juan Salas\, de Big Realty Group\, quienes compartir n su experiencia y consejos pr cticos para tomar decisiones informadas y aprovechar oportunidades en el mercado inmobiliario.
X-ALT-DESC;FMTTYPE=text/html:<strong data-end="106" data-start="76">Inversi&oacute\;n Inmobiliaria 360</strong> es un taller&ndash\;almuerzo gratuito en espa&ntilde\;ol dise&ntilde\;ado para quienes desean aprender sobre el proceso completo del sector inmobiliario.<br />\n<br />\nEl evento abordar&aacute\; temas clave como la compra\, venta e inversi&oacute\;n de propiedades\, as&iacute\; como remodelaci&oacute\;n y trabajos por contrato. Contar&aacute\; con la participaci&oacute\;n de <strong data-end="416" data-start="398">Ferdi Esquivel</strong>\, de <em data-end="441" data-is-only-node="" data-start="421">Freshcoat Painters</em> (Pharr)\, y <strong data-end="467" data-start="453">Juan Salas</strong>\, de <em data-end="490" data-start="472">Big Realty Group</em>\, quienes compartir&aacute\;n su experiencia y consejos pr&aacute\;cticos para tomar decisiones informadas y aprovechar oportunidades en el mercado inmobiliario.
LOCATION:
UID:e.3411.1115
SEQUENCE:3
DTSTAMP:20260422T045558Z
URL:https://members.rgvhcc.org/events/details/lunch-learn-inversi&#243;n-inmobiliaria-360-1115
END:VEVENT

END:VCALENDAR
