BEGIN:VCALENDAR
VERSION:2.0
PRODID:-//ChamberMaster//Event Calendar 2.0//EN
METHOD:PUBLISH
X-PUBLISHED-TTL:P3D
REFRESH-INTERVAL:P3D
CALSCALE:GREGORIAN
BEGIN:VEVENT
DTSTART:20230907T170000Z
DTEND:20230907T180000Z
X-MICROSOFT-CDO-ALLDAYEVENT:FALSE
SUMMARY:Lunch & Learn - Marketing in a Digital World
DESCRIPTION:Topics Covered:  Learn the importance of strategic marketing in today's digital world.
X-ALT-DESC;FMTTYPE=text/html:<div class="m_2344895108396800200MsoListParagraph" style="margin: 0in\; font-size: 11pt\; font-family: Calibri\, sans-serif\;">Topics Covered: &nbsp\;Learn the importance of strategic marketing in today&rsquo\;s digital world.</div>\n
LOCATION:Chase Tower Chase Bank Lobby
UID:e.3411.618
SEQUENCE:3
DTSTAMP:20260424T152440Z
URL:https://members.rgvhcc.org/events/details/lunch-learn-marketing-in-a-digital-world-618
END:VEVENT

END:VCALENDAR
