BEGIN:VCALENDAR
VERSION:2.0
PRODID:-//ChamberMaster//Event Calendar 2.0//EN
METHOD:PUBLISH
X-PUBLISHED-TTL:P3D
REFRESH-INTERVAL:P3D
CALSCALE:GREGORIAN
BEGIN:VEVENT
DTSTART:20250918T163000Z
DTEND:20250918T180000Z
X-MICROSOFT-CDO-ALLDAYEVENT:FALSE
SUMMARY:Lunch & Learn: The Future of Healthcare – A Free Session on Smarter\, More Affordable Coverage
DESCRIPTION:Join us for a Free Lunch & Learn and discover the Future of Healthcare! Say goodbye to overpriced premiums and hello to better care\, freedom\, and peace of mind.\n\n\n\nPresented by healthcare specialist Tina Ziegler\, this session will introduce you to a powerful Freedom Solution that offers:\n\n\n\n  Free choice of doctors & specialists anywhere in the U.S.\n\n  Holistic & preventive wellness options\n\n  Up to 70% monthly savings\n\n  Superior health & travel coverage\n\n  No Social Security required (valid TIN accepted)\n\n  Comprehensive plans for individuals\, families\, 1099 & gig workers\, businesses\, and seniors\n\n\n\nEnjoy a complimentary lunch while gaining valuable insights into smarter\, more affordable healthcare options for yourself\, your family\, or your business.
X-ALT-DESC;FMTTYPE=text/html:<span style="font-family:arial\;">Join us for a Free Lunch &amp\; Learn and discover the Future of Healthcare! Say goodbye to overpriced premiums and hello to better care\, freedom\, and peace of mind.<br />\n<br />\nPresented by healthcare specialist Tina Ziegler\, this session will introduce you to a powerful Freedom Solution that offers:<br />\n<br />\n&#9989\; Free choice of doctors &amp\; specialists anywhere in the U.S.<br />\n&#9989\; Holistic &amp\; preventive wellness options<br />\n&#9989\; Up to 70% monthly savings<br />\n&#9989\; Superior health &amp\; travel coverage<br />\n&#9989\; No Social Security required (valid TIN accepted)<br />\n&#9989\; Comprehensive plans for individuals\, families\, 1099 &amp\; gig workers\, businesses\, and seniors<br />\n<br />\nEnjoy a complimentary lunch while gaining valuable insights into smarter\, more affordable healthcare options for yourself\, your family\, or your business.</span>
LOCATION:
UID:e.3411.1040
SEQUENCE:3
DTSTAMP:20260422T094313Z
URL:https://members.rgvhcc.org/events/details/lunch-learn-the-future-of-healthcare-a-free-session-on-smarter-more-affordable-coverage-1040
END:VEVENT

END:VCALENDAR
