BEGIN:VCALENDAR
VERSION:2.0
PRODID:-//ChamberMaster//Event Calendar 2.0//EN
METHOD:PUBLISH
X-PUBLISHED-TTL:P3D
REFRESH-INTERVAL:P3D
CALSCALE:GREGORIAN
BEGIN:VEVENT
DTSTART:20250725T163000Z
DTEND:20250725T180000Z
X-MICROSOFT-CDO-ALLDAYEVENT:FALSE
SUMMARY:Lunch & Learn: Things You Should Know About Credit with Big Joe Supreme Credit Services
DESCRIPTION:We're excited to invite you to our upcoming Lunch & Learn: Things You Should Know About Credit\, hosted in partnership with Big Joe Supreme Credit Services.\n\nDuring this session\, you'll gain essential insights into how credit works\, why it matters for both personal and business finances\, and common mistakes to avoid. Topics include understanding credit scores\, managing debt\, building strong credit history\, and navigating credit repair options.\n\nWhether you're a business owner\, professional\, or simply looking to improve your financial knowledge\, this workshop is designed to help you make more confident credit decisions.\n\nLunch will be provided come ready to learn\, ask questions\, and network with fellow attendees!
X-ALT-DESC;FMTTYPE=text/html:<p style="color: rgb(31\, 31\, 31)\; font-family: &quot\;Google Sans Text&quot\;\, &quot\;Google Sans&quot\;\, Helvetica\, Arial\, sans-serif\; font-size: 14px\; font-variant-ligatures: no-contextual\; background-color: rgb(233\, 238\, 246)\;">We&rsquo\;re excited to invite you to our upcoming&nbsp\;<strong>Lunch &amp\; Learn: Things You Should Know About Credit</strong>\, hosted in partnership with&nbsp\;<strong>Big Joe Supreme Credit Services</strong>.</p>\n\n<p style="color: rgb(31\, 31\, 31)\; font-family: &quot\;Google Sans Text&quot\;\, &quot\;Google Sans&quot\;\, Helvetica\, Arial\, sans-serif\; font-size: 14px\; font-variant-ligatures: no-contextual\; background-color: rgb(233\, 238\, 246)\;">During this session\, you&#39\;ll gain essential insights into how credit works\, why it matters for both personal and business finances\, and common mistakes to avoid. Topics include understanding credit scores\, managing debt\, building strong credit history\, and navigating credit repair options.</p>\n\n<p style="color: rgb(31\, 31\, 31)\; font-family: &quot\;Google Sans Text&quot\;\, &quot\;Google Sans&quot\;\, Helvetica\, Arial\, sans-serif\; font-size: 14px\; font-variant-ligatures: no-contextual\; background-color: rgb(233\, 238\, 246)\;">Whether you&#39\;re a business owner\, professional\, or simply looking to improve your financial knowledge\, this workshop is designed to help you make more confident credit decisions.</p>\n\n<p style="color: rgb(31\, 31\, 31)\; font-family: &quot\;Google Sans Text&quot\;\, &quot\;Google Sans&quot\;\, Helvetica\, Arial\, sans-serif\; font-size: 14px\; font-variant-ligatures: no-contextual\; background-color: rgb(233\, 238\, 246)\;">Lunch will be provided&mdash\;come ready to learn\, ask questions\, and network with fellow attendees!</p>\n
LOCATION:RGV Hispanic Chamber of Commerce
UID:e.3411.1016
SEQUENCE:3
DTSTAMP:20260422T125440Z
URL:https://members.rgvhcc.org/events/details/lunch-learn-things-you-should-know-about-credit-with-big-joe-supreme-credit-services-1016
END:VEVENT

END:VCALENDAR
