BEGIN:VCALENDAR
VERSION:2.0
PRODID:-//ChamberMaster//Event Calendar 2.0//EN
METHOD:PUBLISH
X-PUBLISHED-TTL:P3D
REFRESH-INTERVAL:P3D
CALSCALE:GREGORIAN
BEGIN:VEVENT
DTSTART:20260203T233000Z
DTEND:20260204T013000Z
X-MICROSOFT-CDO-ALLDAYEVENT:FALSE
SUMMARY:Manic Tuesday Mixer - Cheers Wine & Liquor (San Juan)
DESCRIPTION:The RGV Hispanic Chamber of Commerce is excited to invite you to our next Manic Tuesday Mixer taking place at Cheers Wine & Liquor in San Juan TX!\n\nJoin us every first Monday (in this case Tuesday) of the month for the RGVHCC's signature networking event\, designed for business owners\, professionals\, and entrepreneurs who want to build connections across the Valley.\n\nWhy Attend?\n\n  Networking Opportunities   Meet professionals from various industries and forge new relationships.\n\n  Business Leads   Many attendees walk away with valuable contacts and potential collaborations.\n\n  Door Prize Spotlight   Donating a prize? You'll get a chance to present your business to the crowd.\n\n  Business Card Exchange   Don't forget your cards! Make your introductions count.\n\nWhether you're a seasoned member or brand new to the chamber\, this event is your chance to make Mondays meaningful and profitable.\n\nWe hope to see you there!
X-ALT-DESC;FMTTYPE=text/html:<p style="color: rgb(31\, 31\, 31)\; font-family: &quot\;Google Sans&quot\;\, Roboto\, Arial\, sans-serif\; font-size: 14px\; font-variant-ligatures: no-contextual\; white-space-collapse: preserve\; background-color: rgb(240\, 244\, 249)\;"><span style="font-size:14px\;"><span style="font-family:arial\;">The <b>RGV Hispanic Chamber of Commerce </b>is excited to invite you to our next&nbsp\;<strong>Manic Tuesday Mixer</strong>&mdash\;taking place at&nbsp\;Cheers Wine &amp\; Liquor in <b>San Juan TX</b>!</span></span></p>\n\n<p style="color: rgb(31\, 31\, 31)\; font-family: &quot\;Google Sans&quot\;\, Roboto\, Arial\, sans-serif\; font-size: 14px\; font-variant-ligatures: no-contextual\; white-space-collapse: preserve\; background-color: rgb(240\, 244\, 249)\;"><span style="font-size:14px\;"><span style="font-family:arial\;">Join us every first Monday (in this case Tuesday) of the month for the RGVHCC&rsquo\;s signature networking event\, designed for business owners\, professionals\, and entrepreneurs who want to build connections across the Valley.</span></span></p>\n\n<p style="color: rgb(31\, 31\, 31)\; font-family: &quot\;Google Sans&quot\;\, Roboto\, Arial\, sans-serif\; font-size: 14px\; font-variant-ligatures: no-contextual\; white-space-collapse: preserve\; background-color: rgb(240\, 244\, 249)\;"><span style="font-size:14px\;"><span style="font-family:arial\;"><strong>Why Attend?</strong><br />\n&bull\;&nbsp\;<strong>Networking Opportunities</strong>&nbsp\;&ndash\; Meet professionals from various industries and forge new relationships.<br />\n&bull\;&nbsp\;<strong>Business Leads</strong>&nbsp\;&ndash\; Many attendees walk away with valuable contacts and potential collaborations.<br />\n&bull\;&nbsp\;<strong>Door Prize Spotlight</strong>&nbsp\;&ndash\; Donating a prize? You&rsquo\;ll get a chance to present your business to the crowd.<br />\n&bull\;&nbsp\;<strong>Business Card Exchange</strong>&nbsp\;&ndash\; Don&rsquo\;t forget your cards! Make your introductions count.</span></span></p>\n\n<p style="color: rgb(31\, 31\, 31)\; font-family: &quot\;Google Sans&quot\;\, Roboto\, Arial\, sans-serif\; font-size: 14px\; font-variant-ligatures: no-contextual\; white-space-collapse: preserve\; background-color: rgb(240\, 244\, 249)\;"><span style="font-size:14px\;"><span style="font-family:arial\;">Whether you&rsquo\;re a seasoned member or brand new to the chamber\, this event is your chance to make Mondays meaningful&mdash\;and profitable.</span></span></p>\n\n<p style="color: rgb(31\, 31\, 31)\; font-family: &quot\;Google Sans&quot\;\, Roboto\, Arial\, sans-serif\; font-size: 14px\; font-variant-ligatures: no-contextual\; white-space-collapse: preserve\; background-color: rgb(240\, 244\, 249)\;"><span style="font-size:14px\;"><span style="font-family:arial\;">We hope to see you there!</span></span></p>\n
LOCATION:
UID:e.3411.1116
SEQUENCE:3
DTSTAMP:20260422T012454Z
URL:https://members.rgvhcc.org/events/details/manic-tuesday-mixer-cheers-wine-liquor-san-juan-1116
END:VEVENT

END:VCALENDAR
