BEGIN:VCALENDAR
VERSION:2.0
PRODID:-//ChamberMaster//Event Calendar 2.0//EN
METHOD:PUBLISH
X-PUBLISHED-TTL:P3D
REFRESH-INTERVAL:P3D
CALSCALE:GREGORIAN
BEGIN:VEVENT
DTSTART:20250918T230000Z
DTEND:20250919T020000Z
X-MICROSOFT-CDO-ALLDAYEVENT:FALSE
SUMMARY:Mariposa Gala Un Soiree d'Espoir (A Night of Hope)
DESCRIPTION:Wings are fluttering and magic is in the air\n\n\n\n2025 Mariposa Gala - Une Soir e d'Espoir (A Night of Hope) Join us the Mariposa Gala 2025\, the signature fundraising event for Children's Bereavement Center Rio Grande Valley. This unforgettable evening will bring together compassionate hearts from across our community in support of grieving children and their families. Guests will enjoy a beautifully curated dinner experience\, live entertainment\, and powerful stories of healing and hope   all set against a theme that celebrates the quiet strength and resilience of those we serve. Your support as a sponsor directly impacts the lives of children coping with loss.\n\n\n\nWe offer a range of sponsorship levels designed to provide meaningful recognition and engagement opportunities:\n\n	Swallowtail Sponsor\n	Red Rim Sponsor\n	Blue Metalmark Sponsor\n	South Texas Satyr Sponsor\n	Monarch Supporter\n\nEach level includes premium event seating\, branding visibility\, and the opportunity to be part of a movement that helps children and families find light after loss. Together\, we can nurture resilience\, restore hope\, and uplift the most vulnerable among us. For more information or to secure your table\, please contact us.
X-ALT-DESC;FMTTYPE=text/html:<span style="font-size:12px\;"><span style="font-family:arial\;">Wings are fluttering and magic is in the air<br />\n<br />\n2025 Mariposa Gala - Une Soir&eacute\;e d&rsquo\;Espoir (A Night of Hope) Join us the Mariposa Gala 2025\, the signature fundraising event for Children&#39\;s Bereavement Center Rio Grande Valley. This unforgettable evening will bring together compassionate hearts from across our community in support of grieving children and their families. Guests will enjoy a beautifully curated dinner experience\, live entertainment\, and powerful stories of healing and hope &mdash\; all set against a theme that celebrates the quiet strength and resilience of those we serve. Your support as a sponsor directly impacts the lives of children coping with loss.<br />\n<br />\nWe offer a range of sponsorship levels designed to provide meaningful recognition and engagement opportunities:</span></span>\n<ul>\n	<li><span style="font-size:12px\;"><span style="font-family:arial\;">Swallowtail Sponsor</span></span></li>\n	<li><span style="font-size:12px\;"><span style="font-family:arial\;">Red Rim Sponsor</span></span></li>\n	<li><span style="font-size:12px\;"><span style="font-family:arial\;">Blue Metalmark Sponsor</span></span></li>\n	<li><span style="font-size:12px\;"><span style="font-family:arial\;">South Texas Satyr Sponsor</span></span></li>\n	<li><span style="font-size:12px\;"><span style="font-family:arial\;"><span style="font-size:12px\;"><span style="font-family:arial\;">Monarch Supporter</span></span></span></span></li>\n</ul>\n<span style="font-size:12px\;"><span style="font-family:arial\;">Each level includes premium event seating\, branding visibility\, and the opportunity to be part of a movement that helps children and families find light after loss. Together\, we can nurture resilience\, restore hope\, and uplift the most vulnerable among us. For more information or to secure your table\, please contact us.</span></span>
LOCATION:
UID:e.3411.1038
SEQUENCE:3
DTSTAMP:20260422T094253Z
URL:https://members.rgvhcc.org/events/details/mariposa-gala-un-soiree-d-espoir-a-night-of-hope-1038
END:VEVENT

END:VCALENDAR
