BEGIN:VCALENDAR
VERSION:2.0
PRODID:-//ChamberMaster//Event Calendar 2.0//EN
METHOD:PUBLISH
X-PUBLISHED-TTL:P3D
REFRESH-INTERVAL:P3D
CALSCALE:GREGORIAN
BEGIN:VEVENT
DTSTART:20250220T150000Z
DTEND:20250220T170000Z
X-MICROSOFT-CDO-ALLDAYEVENT:FALSE
SUMMARY:Marketing Made Smarter with AI
DESCRIPTION:Join our FREE AI in Marketing workshop to learn how to boost your marketing and stay ahead of the competition \n\n	Explore how AI is transforming marketing strategies\n	Optimize marketing efforts\n	Increase engagement \n	Drive business growth
X-ALT-DESC;FMTTYPE=text/html:Join our FREE AI in Marketing workshop to learn how to boost your marketing and stay ahead of the competition&nbsp\;\n<ul>\n	<li>Explore how AI is transforming marketing strategies</li>\n	<li>Optimize marketing efforts</li>\n	<li>Increase engagement&nbsp\;</li>\n	<li>Drive business growth</li>\n</ul>\n
LOCATION:CEED BUILDING
UID:e.3411.920
SEQUENCE:3
DTSTAMP:20260422T214327Z
URL:https://members.rgvhcc.org/events/details/marketing-made-smarter-with-ai-920
END:VEVENT

END:VCALENDAR
