BEGIN:VCALENDAR
VERSION:2.0
PRODID:-//ChamberMaster//Event Calendar 2.0//EN
METHOD:PUBLISH
X-PUBLISHED-TTL:P3D
REFRESH-INTERVAL:P3D
CALSCALE:GREGORIAN
BEGIN:VEVENT
DTSTART:20240411T150000Z
DTEND:20240411T163000Z
X-MICROSOFT-CDO-ALLDAYEVENT:FALSE
SUMMARY:Meet & Greet Feat. U.S. Department of Homeland Security Webinar
DESCRIPTION:The Department of Homeland Security has a vital mission which is to secure the nation from the many threats we face. This requires the hard work of more than 260\,000 employees in jobs that range from aviation and border security to emergency response\, from cybersecurity analyst to chemical facility inspector. Their duties are wide-ranging\, and their goal is clear - keeping America safe. This Virtual Meet &amp\; Greet featuring the U.S. Department of Homeland Security (DHS) event will consist of a presentation and a "Meet the Buyer" with a Procuring Officer from Department of Homeland Security\, representing the Lower Rio Grande Valley Region. Mr. David Torres\, DHS Contracting Officer will provide information about procurement opportunities with the Department of Homeland Security. Mr. Torres will also be available to provide small business attendees the required nuts and bolts of doing business with the Department of Homeland Security.\n\n\n\nJoin us thru Zoom Meeting
X-ALT-DESC;FMTTYPE=text/html:The Department of Homeland Security has a vital mission which is to secure the nation from the many threats we face. This requires the hard work of more than 260\,000 employees in jobs that range from aviation and border security to emergency response\, from cybersecurity analyst to chemical facility inspector. Their duties are wide-ranging\, and their goal is clear - keeping America safe. This Virtual Meet &amp\;amp\; Greet featuring the U.S. Department of Homeland Security (DHS) event will consist of a presentation and a &ldquo\;Meet the Buyer&rdquo\; with a Procuring Officer from Department of Homeland Security\, representing the Lower Rio Grande Valley Region. Mr. David Torres\, DHS Contracting Officer will provide information about procurement opportunities with the Department of Homeland Security. Mr. Torres will also be available to provide small business attendees the required nuts and bolts of doing business with the Department of Homeland Security.<br />\n<br />\nJoin us thru Zoom Meeting
LOCATION:Join Zoom Meeting https://us06web.zoom.us/j/88617630704 Meeting ID: 886 1763 0704
UID:e.3411.728
SEQUENCE:3
DTSTAMP:20260424T054925Z
URL:https://members.rgvhcc.org/events/details/meet-greet-feat-u-s-department-of-homeland-security-webinar-728
END:VEVENT

END:VCALENDAR
