BEGIN:VCALENDAR
VERSION:2.0
PRODID:-//ChamberMaster//Event Calendar 2.0//EN
METHOD:PUBLISH
X-PUBLISHED-TTL:P3D
REFRESH-INTERVAL:P3D
CALSCALE:GREGORIAN
BEGIN:VEVENT
DTSTART:20240321T150000Z
DTEND:20240321T163000Z
X-MICROSOFT-CDO-ALLDAYEVENT:FALSE
SUMMARY:Meet & Greet feat. U.S. General Service Administration Webinar
DESCRIPTION:GSA facilitates over $84 billion of products\, services and solutions that enable federal agencies to efficiently accomplish their missions while saving taxpayer dollars. GSA provides agencies with access to American-made products and domestic suppliers while supporting diversity\, equity\, inclusion\, and accessibility of federal procurement. GSA's acquisition solutions offer private sector professional services\, equipment\, supplies\, and IT to government organizations and the military.\n\n\n\nAs a small business you might be interested in learning about business opportunities available from the federal government's General Services\n\nAdministration (GSA).  The GSA is responsible for the construction and maintenance of the federal facilities and border stations in the Rio Grande Valley\, and throughout the State of Texas.  But the GSA also manages procurement\n\nprograms like the GSA Multiple Award Schedule where you can provide products and services to federal agencies located across the country or around the world. \n\n\n\nMr. Albert Garza\, GSA's Small Business Specialist will provide the information on\n\nhow to do business with the U.S. General Service Administration and will be able to meet with one-on-one to tell you more.\n\n\n\nThis Training is definitely for you\, if:\n\n1) You are interested in learning about how to do business with GSA\n\n\n\n2) How to become eligible and how to pursue contacting opportunities.\n\n\n\n3) and how to register your business in the GSA schedule.\n\n\n\nJoin us thru Zoom Meeting
X-ALT-DESC;FMTTYPE=text/html:GSA facilitates over $84 billion of products\, services and solutions that enable federal agencies to efficiently accomplish their missions while saving taxpayer dollars. GSA provides agencies with access to American-made products and domestic suppliers while supporting diversity\, equity\, inclusion\, and accessibility of federal procurement. GSA&rsquo\;s acquisition solutions offer private sector professional services\, equipment\, supplies\, and IT to government organizations and the military.<br />\n<br />\nAs a small business you might be interested in learning about business opportunities available from the federal government&#39\;s General Services<br />\nAdministration (GSA).&nbsp\; The GSA is responsible for the construction and maintenance of the federal facilities and border stations in the Rio Grande Valley\, and throughout the State of Texas.&nbsp\; But the GSA also manages procurement<br />\nprograms like the GSA Multiple Award Schedule where you can provide products and services to federal agencies located across the country or around the world.&nbsp\;<br />\n<br />\nMr. Albert Garza\, GSA&rsquo\;s Small Business Specialist will provide the information on<br />\nhow to do business with the U.S. General Service Administration and will be able to meet with one-on-one to tell you more.<br />\n<br />\nThis Training is definitely for you\, if:<br />\n1) You are interested in learning about how to do business with GSA<br />\n<br />\n2) How to become eligible and how to pursue contacting opportunities.<br />\n<br />\n3) and how to register your business in the GSA schedule.<br />\n<br />\nJoin us thru Zoom Meeting
LOCATION:Meeting ID: 850 5764 5687 Join Zoom Meeting with link below
UID:e.3411.729
SEQUENCE:3
DTSTAMP:20260424T070458Z
URL:https://members.rgvhcc.org/events/details/meet-greet-feat-u-s-general-service-administration-webinar-729
END:VEVENT

END:VCALENDAR
