BEGIN:VCALENDAR
VERSION:2.0
PRODID:-//ChamberMaster//Event Calendar 2.0//EN
METHOD:PUBLISH
X-PUBLISHED-TTL:P3D
REFRESH-INTERVAL:P3D
CALSCALE:GREGORIAN
BEGIN:VEVENT
DTSTART:20230927T150000Z
DTEND:20230927T170000Z
X-MICROSOFT-CDO-ALLDAYEVENT:FALSE
SUMMARY:Meet & Greet featuring the U.S. General Service Administration (Webinar)
DESCRIPTION:An estimated $500 Billion Dollars of Government Contracts are Awarded to Small Businesses Each Year! \n\n \n\nThis event will consist of a presentation and a "Meet the Buyer" one-to-one\, mini-matchmaking opportunity with a Representative for the GSA Small Business Underutilized Office\, Mr. Tony Gregg representing the Lower Rio Grande Valley Region. Mr. Gregg will present on How to do Business with GSA and how to register for the GSA Schedule. He will also plan to be available for any questions you may have regarding your small business and provide the information on how to do business with GSA. \n\n \n\nIf you have a product or service to sell to the federal government then this workshop is for you.
X-ALT-DESC;FMTTYPE=text/html:&nbsp\;<br />\n<span style="font-family:source sans pro\,sans-serif\;"><span style="font-size:13pt\;">An estimated $500 Billion Dollars of Government Contracts are Awarded to Small Businesses Each Year!&nbsp\;</span></span><br />\n&nbsp\;<br />\n<span style="font-family:source sans pro\,sans-serif\;"><span style="font-size:13pt\;">This event will consist of a presentation and a &ldquo\;Meet the Buyer&rdquo\; one-to-one\, mini-matchmaking opportunity with a Representative for the GSA Small Business Underutilized Office\, Mr. Tony Gregg representing the Lower Rio Grande Valley Region. Mr. Gregg will present on How to do Business with GSA and how to register for the GSA Schedule. He will also plan to be available for any questions you may have regarding your small business and provide the information on how to do business with GSA.&nbsp\;</span></span><br />\n&nbsp\;<br />\n<span style="font-family:source sans pro\,sans-serif\;"><span style="font-size:13pt\;">If you have a product or service to sell to the federal government then this workshop is for you.&nbsp\;&nbsp\;&nbsp\;</span></span>
LOCATION:Meeting ID: 869 5927 9881
UID:e.3411.625
SEQUENCE:3
DTSTAMP:20260424T162757Z
URL:https://members.rgvhcc.org/events/details/meet-greet-featuring-the-u-s-general-service-administration-webinar-625
END:VEVENT

END:VCALENDAR
