BEGIN:VCALENDAR
VERSION:2.0
PRODID:-//ChamberMaster//Event Calendar 2.0//EN
METHOD:PUBLISH
X-PUBLISHED-TTL:P3D
REFRESH-INTERVAL:P3D
CALSCALE:GREGORIAN
BEGIN:VEVENT
DTSTART:20241011T170000Z
DTEND:20241011T180000Z
X-MICROSOFT-CDO-ALLDAYEVENT:FALSE
SUMMARY:Meza's Insurance Agency Ribbon Cutting
DESCRIPTION:Join us for an RGVHCC Ribbon Cutting Ceremony!\n\nWe are excited to invite you to celebrate the grand opening of Meza's Insurance Agency with the RGV Hispanic Chamber of Commerce. This special event marks a new chapter as they officially open their doors to the community.\n\nEnjoy networking opportunities\, refreshments\, and a chance to meet local business leaders and chamber members. Let's support this new business and continue fostering growth and collaboration in the Rio Grande Valley!
X-ALT-DESC;FMTTYPE=text/html:<p><strong>Join us for an RGVHCC Ribbon Cutting Ceremony!</strong></p>\n\n<p>We are excited to invite you to celebrate the grand opening of <u><strong>Meza&#39\;s Insurance Agency</strong></u> with the RGV Hispanic Chamber of Commerce. This special event marks a new chapter&nbsp\;as they officially open their doors to the community.</p>\n\n<p>Enjoy networking opportunities\, refreshments\, and a chance to meet local business leaders and chamber members. Let&rsquo\;s support this new business and continue fostering growth and collaboration in the Rio Grande Valley!</p>\n
LOCATION:Meza's Insurance Agency
UID:e.3411.850
SEQUENCE:3
DTSTAMP:20260423T090912Z
URL:https://members.rgvhcc.org/events/details/meza-s-insurance-agency-ribbon-cutting-850
END:VEVENT

END:VCALENDAR
