BEGIN:VCALENDAR
VERSION:2.0
PRODID:-//ChamberMaster//Event Calendar 2.0//EN
METHOD:PUBLISH
X-PUBLISHED-TTL:P3D
REFRESH-INTERVAL:P3D
CALSCALE:GREGORIAN
BEGIN:VEVENT
DTSTART:20251214T130000Z
DTEND:20251214T180000Z
X-MICROSOFT-CDO-ALLDAYEVENT:FALSE
SUMMARY:Miles with Santa for Toys
DESCRIPTION:5k & 10k Miles with Santa for Toys\n\nBy Total Care Insurance\n\n\n\n$750.00 Gold - Santa Sleigh\n\nPremium recognition on all event materials and social media\n\nVerbal acknowledgment during the event\n\nOption for on-site booth or banner display\n\nFeatured mention in post-event\n\n4 Race entries\n\n\n\n$500.00Silver - Rudolph's Runner\n\nLogo on banner and digital materials\n\nRecognition on social media\n\nVerbal Thank you during the event\, in post-event thank you messages.\n\n3 Race entries\n\n\n\n$250.00 Bronze - Elf Helper\n\nLogo on shared event banner\n\nHonorable mention on social media and at the event\n\n2 Race entries\n\n\n\n$150.00 - Toy Giver\n\nRecognition on Social media\n\nThank you mention during the event\n\n1 Race entry\, \n\n\n\nPayment Method:\n\nhttps://cash.app/$aherrera2015\n\n\n\nCheck: Total Care Insurance Advocate Group\n\n( Please make check payable to)
X-ALT-DESC;FMTTYPE=text/html:<span style="font-size:14px\;"><span style="font-family:arial\;"><span style="font-size:20px\;"><strong>5k &amp\; 10k Miles with Santa for Toys</strong></span><br />\nBy Total Care Insurance<br />\n<br />\n<strong>$750.00 Gold - Santa Sleigh</strong><br />\nPremium recognition on all event materials and social media<br />\nVerbal acknowledgment during the event<br />\nOption for on-site booth or banner display<br />\nFeatured mention in post-event<br />\n4 Race entries<br />\n<br />\n<strong>$500.00Silver - Rudolph&#39\;s Runner</strong><br />\nLogo on banner and digital materials<br />\nRecognition on social media<br />\nVerbal Thank you during the event\, in post-event thank you messages.<br />\n3 Race entries<br />\n<br />\n<strong>$250.00 Bronze - Elf Helper</strong><br />\nLogo on shared event banner<br />\nHonorable mention on social media and at the event<br />\n2 Race entries<br />\n<br />\n<strong>$150.00 - Toy Giver</strong><br />\nRecognition on Social media<br />\nThank you mention during the event<br />\n1 Race entry\,&nbsp\;</span><br />\n<br />\nPayment Method:<br />\nhttps://cash.app/$aherrera2015<br />\n<br />\nCheck: Total Care Insurance Advocate Group<br />\n( Please make check payable to)&nbsp\;</span>
LOCATION:
UID:e.3411.1102
SEQUENCE:3
DTSTAMP:20260422T050056Z
URL:https://members.rgvhcc.org/events/details/miles-with-santa-for-toys-1102
END:VEVENT

END:VCALENDAR
