BEGIN:VCALENDAR
VERSION:2.0
PRODID:-//ChamberMaster//Event Calendar 2.0//EN
METHOD:PUBLISH
X-PUBLISHED-TTL:P3D
REFRESH-INTERVAL:P3D
CALSCALE:GREGORIAN
BEGIN:VEVENT
DTSTART:20241210T173000Z
DTEND:20241210T190000Z
X-MICROSOFT-CDO-ALLDAYEVENT:FALSE
SUMMARY:Mission Rotary Holiday Brunch
DESCRIPTION:The Mission Rotary Club will have a holiday celebration on December 10th and it's open to all who are interested in attending. We'll be recognizing Paul Harris members and installing new members\, great opportunities for community members to come learn about Rotary.\n\n\n\nNext Brunch Save the Date: Jan. 7\, 2025\n\nNew Years Brunch
X-ALT-DESC;FMTTYPE=text/html:<div style="background-color: rgb(255\, 255\, 255)\; font-family: Verdana\, Geneva\, sans-serif\; font-size: 12pt\;">The Mission Rotary Club will have a holiday celebration on December 10<sup>th</sup>&nbsp\;and it&#39\;s open&nbsp\;to all who are interested in&nbsp\;attending. We&#39\;ll be recognizing Paul Harris members and installing new members\, great opportunities for community members to come learn about Rotary.<br />\n<br />\nNext Brunch Save the Date: Jan. 7\, 2025<br />\nNew Years Brunch</div>\n
LOCATION:The Loretto Bistro
UID:e.3411.884
SEQUENCE:3
DTSTAMP:20260423T005526Z
URL:https://members.rgvhcc.org/events/details/mission-rotary-holiday-brunch-884
END:VEVENT

END:VCALENDAR
