BEGIN:VCALENDAR
VERSION:2.0
PRODID:-//ChamberMaster//Event Calendar 2.0//EN
METHOD:PUBLISH
X-PUBLISHED-TTL:P3D
REFRESH-INTERVAL:P3D
CALSCALE:GREGORIAN
BEGIN:VEVENT
DTSTART:20250612T150000Z
DTEND:20250612T170000Z
X-MICROSOFT-CDO-ALLDAYEVENT:FALSE
SUMMARY:Modern Professionalism - Leadership Empowerment Workshop - Sponsored by Insurance Services and Associates
DESCRIPTION:In a changing world\, the idea of professionalism means something different to everyone. This session will review the latest research on professionalism to include attire\, communication\, and presence.  Participants of this training will learn the top best practices for appearing and acting in a professional manner.\n\n\n\nFacilitated by Leadership Empowerment Group. Sponsored by Insurance Services and Associates
X-ALT-DESC;FMTTYPE=text/html:<span style="color: rgb(0\, 0\, 0)\; font-family: Aptos\, Aptos_EmbeddedFont\, Aptos_MSFontService\, Calibri\, Helvetica\, sans-serif\; font-size: 16px\;">In a changing world\, the idea of professionalism means something different to everyone. This session will review the latest research on professionalism to include attire\, communication\, and presence.&nbsp\; Participants of this training will learn the top best practices for appearing and acting in a professional manner.</span><br>\n<br>\nFacilitated by Leadership Empowerment Group. Sponsored by Insurance Services and Associates<br>\n&nbsp\;
LOCATION:Address: 801 E Fern Ave #131\, McAllen\, TX 78501
UID:e.3411.938
SEQUENCE:3
DTSTAMP:20260422T144100Z
URL:https://members.rgvhcc.org/events/details/modern-professionalism-leadership-empowerment-workshop-sponsored-by-insurance-services-and-associates-938
END:VEVENT

END:VCALENDAR
