BEGIN:VCALENDAR
VERSION:2.0
PRODID:-//ChamberMaster//Event Calendar 2.0//EN
METHOD:PUBLISH
X-PUBLISHED-TTL:P3D
REFRESH-INTERVAL:P3D
CALSCALE:GREGORIAN
BEGIN:VEVENT
DTSTART:20250417T150000Z
DTEND:20250417T170000Z
X-MICROSOFT-CDO-ALLDAYEVENT:FALSE
SUMMARY:National Donate Life Month
DESCRIPTION:April is a significant month dedicated to honoring the courageous individuals who\, even in their own loss\, have chosen to give the gift of life through organ\, tissue\, and eye donation. We invite you to join us for a heartfelt gathering on Thursday\, April 17th at 11:00 AM at Mission Regional Medical Center to celebrate this incredible legacy\, share inspiring stories\, and deepen our understanding of the transformative power of donation. This event offers more than just an opportunity to learn\; it's a chance to connect with others who share a passion for making a difference. Together\, we can spread hope and inspire more people to recognize the life-changing impact of becoming a donor.
X-ALT-DESC;FMTTYPE=text/html:April is a significant month dedicated to honoring the courageous individuals who\, even in their own loss\, have chosen to give the gift of life through organ\, tissue\, and eye donation. We invite you to join us for a heartfelt gathering on Thursday\, April 17th at 11:00 AM at Mission Regional Medical Center to celebrate this incredible legacy\, share inspiring stories\, and deepen our understanding of the transformative power of donation. This event offers more than just an opportunity to learn\; it&rsquo\;s a chance to connect with others who share a passion for making a difference. Together\, we can spread hope and inspire more people to recognize the life-changing impact of becoming a donor.
LOCATION:900 S Bryan Rd\, Mission\, TX 78572
UID:e.3411.951
SEQUENCE:3
DTSTAMP:20260422T194617Z
URL:https://members.rgvhcc.org/events/details/national-donate-life-month-951
END:VEVENT

END:VCALENDAR
