BEGIN:VCALENDAR
VERSION:2.0
PRODID:-//ChamberMaster//Event Calendar 2.0//EN
METHOD:PUBLISH
X-PUBLISHED-TTL:P3D
REFRESH-INTERVAL:P3D
CALSCALE:GREGORIAN
BEGIN:VEVENT
DTSTART:20231106T160000Z
DTEND:20231106T170000Z
X-MICROSOFT-CDO-ALLDAYEVENT:FALSE
SUMMARY:New Member Zoom Orientation
DESCRIPTION:JOIN WEBINAR HERE:\n\nhttps://us06web.zoom.us/j/89047418545?pwd=vwe6rrOrpobvAafdLToSX2oiVVAxKR.1
X-ALT-DESC;FMTTYPE=text/html:<strong><u>JOIN WEBINAR HERE:</u></strong><br />\nhttps://us06web.zoom.us/j/89047418545?pwd=vwe6rrOrpobvAafdLToSX2oiVVAxKR.1
LOCATION:
UID:e.3411.652
SEQUENCE:3
DTSTAMP:20260424T122146Z
URL:https://members.rgvhcc.org/events/details/new-member-zoom-orientation-652
END:VEVENT

END:VCALENDAR
