BEGIN:VCALENDAR
VERSION:2.0
PRODID:-//ChamberMaster//Event Calendar 2.0//EN
METHOD:PUBLISH
X-PUBLISHED-TTL:P3D
REFRESH-INTERVAL:P3D
CALSCALE:GREGORIAN
BEGIN:VEVENT
DTSTART:20240129T160000Z
DTEND:20240129T170000Z
X-MICROSOFT-CDO-ALLDAYEVENT:FALSE
SUMMARY:New Member Zoom Orientation
DESCRIPTION:JOIN WEBINAR HERE:\n\nhttps://us06web.zoom.us/j/88067419020
X-ALT-DESC;FMTTYPE=text/html:<strong><u>JOIN WEBINAR HERE:</u></strong><br />\n<a data-saferedirecturl="https://www.google.com/url?q=https://www.google.com/url?q%3Dhttps%253A%252F%252Fus06web.zoom.us%252Fj%252F88067419020%26sa%3DD%26ust%3D1705869660000000%26usg%3DAOvVaw2LBnccD8-Ecx29_7vFNQYl&amp\;source=gmail&amp\;ust=1705524064287000&amp\;usg=AOvVaw24amAkSzLjER41UPSa3YUa" href="https://www.google.com/url?q=https%3A%2F%2Fus06web.zoom.us%2Fj%2F88067419020&amp\;sa=D&amp\;ust=1705869660000000&amp\;usg=AOvVaw2LBnccD8-Ecx29_7vFNQYl" style="color: rgb(17\, 85\, 204)\; font-family: Roboto\, sans-serif\; font-size: 14px\; letter-spacing: 0.2px\; background-color: rgb(255\, 255\, 255)\;" target="_blank">https://us06web.zoom.us/j/<wbr />88067419020</a><br />\n<br />\n<br />\n&nbsp\;
LOCATION:Meeting ID: 880 6741 9020 One tap mobile +13462487799\,\,88067419020# US (Houston) +12532050468\,\,88067419020# US
UID:e.3411.701
SEQUENCE:3
DTSTAMP:20260424T105031Z
URL:https://members.rgvhcc.org/events/details/new-member-zoom-orientation-701
END:VEVENT

END:VCALENDAR
