BEGIN:VCALENDAR
VERSION:2.0
PRODID:-//ChamberMaster//Event Calendar 2.0//EN
METHOD:PUBLISH
X-PUBLISHED-TTL:P3D
REFRESH-INTERVAL:P3D
CALSCALE:GREGORIAN
BEGIN:VEVENT
DTSTART:20240611T160000Z
DTEND:20240611T170000Z
X-MICROSOFT-CDO-ALLDAYEVENT:FALSE
SUMMARY:New Member Zoom Orientation
DESCRIPTION:JOIN WEBINAR HERE:\n\n\n\nJoin Zoom Meeting\n\nhttps://us06web.zoom.us/j/87046980274\n\n\n\nMeeting ID: 870 4698 0274
X-ALT-DESC;FMTTYPE=text/html:<strong><u>JOIN WEBINAR HERE:</u></strong><br />\n<br />\n<span style="color: rgb(60\, 64\, 67)\; font-family: Roboto\, Arial\, sans-serif\; font-size: 14px\; letter-spacing: 0.2px\; white-space-collapse: preserve\; background-color: rgb(255\, 255\, 255)\;">Join Zoom Meeting</span><br style="color: rgb(60\, 64\, 67)\; font-family: Roboto\, Arial\, sans-serif\; font-size: 14px\; letter-spacing: 0.2px\; white-space-collapse: preserve\; background-color: rgb(255\, 255\, 255)\;" />\n<a href="https://www.google.com/url?q=https://us06web.zoom.us/j/87046980274&amp\;sa=D&amp\;source=calendar&amp\;ust=1716842181960089&amp\;usg=AOvVaw2WEIlOvjhNnRMR1DRRlFdx" style="color: rgb(26\, 115\, 232)\; outline: none\; font-family: Roboto\, Arial\, sans-serif\; font-size: 14px\; letter-spacing: 0.2px\; white-space-collapse: preserve\; background-color: rgb(255\, 255\, 255)\;" target="_blank">https://us06web.zoom.us/j/87046980274</a><br style="color: rgb(60\, 64\, 67)\; font-family: Roboto\, Arial\, sans-serif\; font-size: 14px\; letter-spacing: 0.2px\; white-space-collapse: preserve\; background-color: rgb(255\, 255\, 255)\;" />\n<br style="color: rgb(60\, 64\, 67)\; font-family: Roboto\, Arial\, sans-serif\; font-size: 14px\; letter-spacing: 0.2px\; white-space-collapse: preserve\; background-color: rgb(255\, 255\, 255)\;" />\n<span style="color: rgb(60\, 64\, 67)\; font-family: Roboto\, Arial\, sans-serif\; font-size: 14px\; letter-spacing: 0.2px\; white-space-collapse: preserve\; background-color: rgb(255\, 255\, 255)\;">Meeting ID: 870 4698 0274</span><br />\n&nbsp\;
LOCATION:
UID:e.3411.770
SEQUENCE:3
DTSTAMP:20260424T024854Z
URL:https://members.rgvhcc.org/events/details/new-member-zoom-orientation-770
END:VEVENT

END:VCALENDAR
