BEGIN:VCALENDAR
VERSION:2.0
PRODID:-//ChamberMaster//Event Calendar 2.0//EN
METHOD:PUBLISH
X-PUBLISHED-TTL:P3D
REFRESH-INTERVAL:P3D
CALSCALE:GREGORIAN
BEGIN:VEVENT
DTSTART:20240807T160000Z
DTEND:20240807T170000Z
X-MICROSOFT-CDO-ALLDAYEVENT:FALSE
SUMMARY:New Member Zoom Orientation
DESCRIPTION:Are you a new member to the RGV Hispanic Chamber of Commerce? Unsure of what your memberships benefits are?\n\n\n\nJoin us for a New Member Zoom Orientation hosted by Memberships & Event Director Francisca Saenz. Learn about your perks & benefits of being apart of the Rio Grande Valley Hispanic Chamber of Commerce  \n\n\n\n  June 11\n\n\n\n  11:00 am\n\n\n\n  ZOOM ID: 870 4698 0274\n\n\n\nUnlock the full potential of your membership! #network #rgvhcc
X-ALT-DESC;FMTTYPE=text/html:<span style="font-family: -apple-system\, BlinkMacSystemFont\, &quot\;Segoe UI&quot\;\, Roboto\, Helvetica\, Arial\, sans-serif\; font-size: 14px\; background-color: rgb(255\, 255\, 255)\;">Are you a new member to the RGV Hispanic Chamber of Commerce? Unsure of what your memberships benefits are?</span><br style="font-family: -apple-system\, BlinkMacSystemFont\, &quot\;Segoe UI&quot\;\, Roboto\, Helvetica\, Arial\, sans-serif\; font-size: 14px\; background-color: rgb(255\, 255\, 255)\;" />\n<br style="font-family: -apple-system\, BlinkMacSystemFont\, &quot\;Segoe UI&quot\;\, Roboto\, Helvetica\, Arial\, sans-serif\; font-size: 14px\; background-color: rgb(255\, 255\, 255)\;" />\n<span style="font-family: -apple-system\, BlinkMacSystemFont\, &quot\;Segoe UI&quot\;\, Roboto\, Helvetica\, Arial\, sans-serif\; font-size: 14px\; background-color: rgb(255\, 255\, 255)\;">Join us for a New Member Zoom Orientation hosted by Memberships &amp\; Event Director Francisca Saenz. Learn about your perks &amp\; benefits of being apart of the Rio Grande Valley Hispanic Chamber of Commerce &#129413\;</span><br style="font-family: -apple-system\, BlinkMacSystemFont\, &quot\;Segoe UI&quot\;\, Roboto\, Helvetica\, Arial\, sans-serif\; font-size: 14px\; background-color: rgb(255\, 255\, 255)\;" />\n<br style="font-family: -apple-system\, BlinkMacSystemFont\, &quot\;Segoe UI&quot\;\, Roboto\, Helvetica\, Arial\, sans-serif\; font-size: 14px\; background-color: rgb(255\, 255\, 255)\;" />\n<span style="font-family: -apple-system\, BlinkMacSystemFont\, &quot\;Segoe UI&quot\;\, Roboto\, Helvetica\, Arial\, sans-serif\; font-size: 14px\; background-color: rgb(255\, 255\, 255)\;">&#128198\; June 11</span><br style="font-family: -apple-system\, BlinkMacSystemFont\, &quot\;Segoe UI&quot\;\, Roboto\, Helvetica\, Arial\, sans-serif\; font-size: 14px\; background-color: rgb(255\, 255\, 255)\;" />\n<br style="font-family: -apple-system\, BlinkMacSystemFont\, &quot\;Segoe UI&quot\;\, Roboto\, Helvetica\, Arial\, sans-serif\; font-size: 14px\; background-color: rgb(255\, 255\, 255)\;" />\n<span style="font-family: -apple-system\, BlinkMacSystemFont\, &quot\;Segoe UI&quot\;\, Roboto\, Helvetica\, Arial\, sans-serif\; font-size: 14px\; background-color: rgb(255\, 255\, 255)\;">&#9200\; 11:00 am</span><br style="font-family: -apple-system\, BlinkMacSystemFont\, &quot\;Segoe UI&quot\;\, Roboto\, Helvetica\, Arial\, sans-serif\; font-size: 14px\; background-color: rgb(255\, 255\, 255)\;" />\n<br style="font-family: -apple-system\, BlinkMacSystemFont\, &quot\;Segoe UI&quot\;\, Roboto\, Helvetica\, Arial\, sans-serif\; font-size: 14px\; background-color: rgb(255\, 255\, 255)\;" />\n<span style="font-family: -apple-system\, BlinkMacSystemFont\, &quot\;Segoe UI&quot\;\, Roboto\, Helvetica\, Arial\, sans-serif\; font-size: 14px\; background-color: rgb(255\, 255\, 255)\;">&#128205\; ZOOM ID: 870 4698 0274</span><br style="font-family: -apple-system\, BlinkMacSystemFont\, &quot\;Segoe UI&quot\;\, Roboto\, Helvetica\, Arial\, sans-serif\; font-size: 14px\; background-color: rgb(255\, 255\, 255)\;" />\n<br style="font-family: -apple-system\, BlinkMacSystemFont\, &quot\;Segoe UI&quot\;\, Roboto\, Helvetica\, Arial\, sans-serif\; font-size: 14px\; background-color: rgb(255\, 255\, 255)\;" />\n<span style="font-family: -apple-system\, BlinkMacSystemFont\, &quot\;Segoe UI&quot\;\, Roboto\, Helvetica\, Arial\, sans-serif\; font-size: 14px\; background-color: rgb(255\, 255\, 255)\;">Unlock the full potential of your membership!&nbsp\;</span><a class="x1i10hfl xjbqb8w x1ejq31n xd10rxx x1sy0etr x17r0tee x972fbf xcfux6l x1qhh985 xm0m39n x9f619 x1ypdohk xt0psk2 xe8uvvx xdj266r x11i5rnm xat24cr x1mh8g0r xexx8yu x4uap5 x18d9i69 xkhd6sd x16tdsg8 x1hl2dhg xggy1nq x1a2a7pz  _aa9_ _a6hd" href="https://www.instagram.com/explore/tags/network/" role="link" style="cursor: pointer\; text-decoration-line: none\; overflow-wrap: break-word\; outline: none\; list-style: none\; margin: 0px\; border-style: none\; -webkit-tap-highlight-color: transparent\; padding: 0px\; box-sizing: border-box\; border-width: 0px\; touch-action: manipulation\; background-color: rgb(255\, 255\, 255)\; display: inline\; font-family: -apple-system\, BlinkMacSystemFont\, &quot\;Segoe UI&quot\;\, Roboto\, Helvetica\, Arial\, sans-serif\; font-size: 14px\;" tabindex="0">#network</a><span style="font-family: -apple-system\, BlinkMacSystemFont\, &quot\;Segoe UI&quot\;\, Roboto\, Helvetica\, Arial\, sans-serif\; font-size: 14px\; background-color: rgb(255\, 255\, 255)\;">&nbsp\;</span><a class="x1i10hfl xjbqb8w x1ejq31n xd10rxx x1sy0etr x17r0tee x972fbf xcfux6l x1qhh985 xm0m39n x9f619 x1ypdohk xt0psk2 xe8uvvx xdj266r x11i5rnm xat24cr x1mh8g0r xexx8yu x4uap5 x18d9i69 xkhd6sd x16tdsg8 x1hl2dhg xggy1nq x1a2a7pz  _aa9_ _a6hd" href="https://www.instagram.com/explore/tags/rgvhcc/" role="link" style="cursor: pointer\; text-decoration-line: none\; overflow-wrap: break-word\; outline: none\; list-style: none\; margin: 0px\; border-style: none\; -webkit-tap-highlight-color: transparent\; padding: 0px\; box-sizing: border-box\; border-width: 0px\; touch-action: manipulation\; background-color: rgb(255\, 255\, 255)\; display: inline\; font-family: -apple-system\, BlinkMacSystemFont\, &quot\;Segoe UI&quot\;\, Roboto\, Helvetica\, Arial\, sans-serif\; font-size: 14px\;" tabindex="0">#rgvhcc</a><br />\n<br />\n&nbsp\;
LOCATION:JOIN WEBINAR HERE: Join Zoom Meeting https://us06web.zoom.us/j/82122471483?pwd=CrsPGIl9EjwkWerPBu2yEKx8WRZDFp.1 Meeting ID: 821 2247 1483
UID:e.3411.797
SEQUENCE:3
DTSTAMP:20260423T221226Z
URL:https://members.rgvhcc.org/events/details/new-member-zoom-orientation-797
END:VEVENT

END:VCALENDAR
