BEGIN:VCALENDAR
VERSION:2.0
PRODID:-//ChamberMaster//Event Calendar 2.0//EN
METHOD:PUBLISH
X-PUBLISHED-TTL:P3D
REFRESH-INTERVAL:P3D
CALSCALE:GREGORIAN
BEGIN:VEVENT
DTSTART:20250305T170000Z
DTEND:20250305T180000Z
X-MICROSOFT-CDO-ALLDAYEVENT:FALSE
SUMMARY:New Member Zoom Orientation
DESCRIPTION:Are you a new member of the RGV Hispanic Chamber of Commerce? Not sure what benefits your membership includes?\n\nJoin us for our New Member Zoom Orientation!\n\n  Discover all the perks and benefits that come with being part of the Rio Grande Valley Hispanic Chamber of Commerce!\n\nLet's make sure you're getting the most out of your membership   from networking opportunities to valuable business resources and more.\n\nUnlock the full potential of your membership!
X-ALT-DESC;FMTTYPE=text/html:<p data-end="179" data-start="63"><strong data-end="177" data-start="63">Are you a new member of the RGV Hispanic Chamber of Commerce? Not sure what benefits your membership includes?</strong></p>\n\n<p data-end="250" data-start="181">Join us for our <strong data-end="228" data-start="197">New Member Zoom Orientation!</strong></p>\n\n<p data-end="377" data-start="252">&#127775\; Discover all the perks and benefits that come with being part of the <strong data-end="374" data-start="324">Rio Grande Valley Hispanic Chamber of Commerce</strong>!</p>\n\n<p data-end="516" data-start="379">Let&rsquo\;s make sure you&rsquo\;re getting the most out of your membership &mdash\; from networking opportunities to valuable business resources and more.</p>\n\n<p data-end="588" data-start="518"><strong data-end="567" data-start="518">Unlock the full potential of your membership!</strong></p>\n
LOCATION:Join Zoom Meeting https://zoom.us/j/99493294604?pwd=mTGh3rlOgpIbJLsMCzrK1cShmtW3e7.1 Meeting ID: 994 9329 4604 Passcode: 123RGV
UID:e.3411.925
SEQUENCE:3
DTSTAMP:20260422T194617Z
URL:https://members.rgvhcc.org/events/details/new-member-zoom-orientation-925
END:VEVENT

END:VCALENDAR
