BEGIN:VCALENDAR
VERSION:2.0
PRODID:-//ChamberMaster//Event Calendar 2.0//EN
METHOD:PUBLISH
X-PUBLISHED-TTL:P3D
REFRESH-INTERVAL:P3D
CALSCALE:GREGORIAN
BEGIN:VEVENT
DTSTART:20260312T163000Z
DTEND:20260312T170000Z
X-MICROSOFT-CDO-ALLDAYEVENT:FALSE
SUMMARY:New Member Zoom Orientation - March 2026
DESCRIPTION:Are you a new member of the RGV Hispanic Chamber of Commerce? Not sure what benefits your membership includes? Join us for our New Member Zoom Orientation!\n\n\n\nAre you a new or recently renewed member of the RGV Hispanic Chamber of Commerce? Curious about everything your membership includes? Join us for our New Member Zoom Orientation and learn how to make the most of your benefits. Discover all the perks and benefits that come with being part of the Rio Grande Valley Hispanic Chamber of Commerce! Let's make sure you're getting the most out of your membership   from networking opportunities to valuable business resources and more. Unlock the full potential of your membership!
X-ALT-DESC;FMTTYPE=text/html:<span style="font-size:14px\;"><span style="font-family:arial\;">Are you a new member of the RGV Hispanic Chamber of Commerce? Not sure what benefits your membership includes? Join us for our New Member Zoom Orientation!<br />\n<br />\nAre you a new or recently renewed member of the RGV Hispanic Chamber of Commerce? Curious about everything your membership includes? Join us for our New Member Zoom Orientation and learn how to make the most of your benefits. Discover all the perks and benefits that come with being part of the Rio Grande Valley Hispanic Chamber of Commerce! Let&rsquo\;s make sure you&rsquo\;re getting the most out of your membership &mdash\; from networking opportunities to valuable business resources and more. Unlock the full potential of your membership!</span></span>
LOCATION:Join Zoom Meeting: https://us04web.zoom.us/j/77156187871?pwd=qsveAlb3rebq10N4BzNqJowJzNiEj0.1 Meeting ID: 771 5618 7871 Passcode: 4Z7YF8
UID:e.3411.1150
SEQUENCE:3
DTSTAMP:20260421T233141Z
URL:https://members.rgvhcc.org/events/details/new-member-zoom-orientation-march-2026-1150
END:VEVENT

END:VCALENDAR
