BEGIN:VCALENDAR
VERSION:2.0
PRODID:-//ChamberMaster//Event Calendar 2.0//EN
METHOD:PUBLISH
X-PUBLISHED-TTL:P3D
REFRESH-INTERVAL:P3D
CALSCALE:GREGORIAN
BEGIN:VEVENT
DTSTART:20260514T230000Z
DTEND:20260515T040000Z
X-MICROSOFT-CDO-ALLDAYEVENT:FALSE
SUMMARY:Noche De Gala 2026 — Arabian Nights
DESCRIPTION:The RGV Hispanic Chamber of Commerce proudly presents the 2026 Noche De Gala\, an evening dedicated to honoring outstanding leaders and celebrating excellence in the Rio Grande Valley.\n\n\n\nThis prestigious event will recognize the achievements of the Businessman of the Year\, Businesswoman of the Year\, and the esteemed recipient of the Golden Eagle Award\, showcasing their contributions to our community and beyond.\n\n\n\nThe Gala will also feature a live and silent auction\, with proceeds supporting the RGV Hispanic Chamber's initiatives to empower small businesses and foster economic growth\n\n\n\nThe Mission of the RGV Hispanic Chamber (RGVHCC) is to strengthen local businesses & professionals through networking\, mentorship\, education\, and promoting economic development across the border region. The RGVHCC membership is comprised of ambitious professionals spanning a wide variety of industries. \n\n\n\nHonoring the 2026 Business Leaders\n\n\n	Businessman & Businesswoman of The Year\n	Small Business of The Year\n	Medium Business of The Year\n	Large Business of The Year\n	Rising Star\n	People's Choice\n	Excellence in Arts
X-ALT-DESC;FMTTYPE=text/html:<div class="cxmmr5t8 oygrvhab hcukyx3x c1et5uql o9v6fnle" style="background-color: rgb(255\, 255\, 255)\; overflow-wrap: break-word\; margin: 0.5em 0px 0px\; font-family: system-ui\, -apple-system\, &quot\;system-ui&quot\;\, &quot\;.SFNSText-Regular&quot\;\, sans-serif\; color: rgb(5\, 5\, 5)\; font-size: 15px\;"><span style="font-size:14px\;"><span style="font-family:arial\;">The RGV Hispanic Chamber of Commerce proudly presents the 2026 Noche De Gala\, an evening dedicated to honoring outstanding leaders and celebrating excellence in the Rio Grande Valley.<br />\n<br />\nThis prestigious event will recognize the achievements of the Businessman of the Year\, Businesswoman of the Year\, and the esteemed recipient of the Golden Eagle Award\, showcasing their contributions to our community and beyond.<br />\n<br />\nThe Gala will also feature a&nbsp\;live and silent auction\, with proceeds supporting the RGV Hispanic Chamber&rsquo\;s initiatives to empower small businesses and foster economic growth<br />\n<br />\nThe Mission of the RGV Hispanic Chamber (RGVHCC) is to strengthen local businesses &amp\; professionals through networking\, mentorship\, education\, and promoting economic development across the border region. The RGVHCC membership is comprised of ambitious professionals spanning a wide variety of industries.&nbsp\;<br />\n<br />\nHonoring the 2026 Business Leaders</span></span></div>\n\n<ul>\n	<li class="cxmmr5t8 oygrvhab hcukyx3x c1et5uql o9v6fnle" style="background-color: rgb(255\, 255\, 255)\; overflow-wrap: break-word\; margin: 0.5em 0px 0px\; font-family: system-ui\, -apple-system\, &quot\;system-ui&quot\;\, &quot\;.SFNSText-Regular&quot\;\, sans-serif\; color: rgb(5\, 5\, 5)\; font-size: 15px\;"><span style="font-size:14px\;"><span style="font-family:arial\;">Businessman &amp\; Businesswoman&nbsp\;of The Year</span></span></li>\n	<li class="cxmmr5t8 oygrvhab hcukyx3x c1et5uql o9v6fnle" style="background-color: rgb(255\, 255\, 255)\; overflow-wrap: break-word\; margin: 0.5em 0px 0px\; font-family: system-ui\, -apple-system\, &quot\;system-ui&quot\;\, &quot\;.SFNSText-Regular&quot\;\, sans-serif\; color: rgb(5\, 5\, 5)\; font-size: 15px\;"><span style="font-size:14px\;"><span style="font-family:arial\;">Small Business of The Year</span></span></li>\n	<li class="cxmmr5t8 oygrvhab hcukyx3x c1et5uql o9v6fnle" style="background-color: rgb(255\, 255\, 255)\; overflow-wrap: break-word\; margin: 0.5em 0px 0px\; font-family: system-ui\, -apple-system\, &quot\;system-ui&quot\;\, &quot\;.SFNSText-Regular&quot\;\, sans-serif\; color: rgb(5\, 5\, 5)\; font-size: 15px\;"><span style="font-size:14px\;"><span style="font-family:arial\;">Medium Business of The Year</span></span></li>\n	<li class="cxmmr5t8 oygrvhab hcukyx3x c1et5uql o9v6fnle" style="background-color: rgb(255\, 255\, 255)\; overflow-wrap: break-word\; margin: 0.5em 0px 0px\; font-family: system-ui\, -apple-system\, &quot\;system-ui&quot\;\, &quot\;.SFNSText-Regular&quot\;\, sans-serif\; color: rgb(5\, 5\, 5)\; font-size: 15px\;"><span style="font-size:14px\;"><span style="font-family:arial\;">Large Business of The Year</span></span></li>\n	<li class="cxmmr5t8 oygrvhab hcukyx3x c1et5uql o9v6fnle" style="background-color: rgb(255\, 255\, 255)\; overflow-wrap: break-word\; margin: 0.5em 0px 0px\; font-family: system-ui\, -apple-system\, &quot\;system-ui&quot\;\, &quot\;.SFNSText-Regular&quot\;\, sans-serif\; color: rgb(5\, 5\, 5)\; font-size: 15px\;"><span style="font-size:14px\;"><span style="font-family:arial\;">Rising Star</span></span></li>\n	<li class="cxmmr5t8 oygrvhab hcukyx3x c1et5uql o9v6fnle" style="background-color: rgb(255\, 255\, 255)\; overflow-wrap: break-word\; margin: 0.5em 0px 0px\; font-family: system-ui\, -apple-system\, &quot\;system-ui&quot\;\, &quot\;.SFNSText-Regular&quot\;\, sans-serif\; color: rgb(5\, 5\, 5)\; font-size: 15px\;"><span style="font-size:14px\;"><span style="font-family:arial\;">People&rsquo\;s Choice</span></span></li>\n	<li class="cxmmr5t8 oygrvhab hcukyx3x c1et5uql o9v6fnle" style="background-color: rgb(255\, 255\, 255)\; overflow-wrap: break-word\; margin: 0.5em 0px 0px\; font-family: system-ui\, -apple-system\, &quot\;system-ui&quot\;\, &quot\;.SFNSText-Regular&quot\;\, sans-serif\; color: rgb(5\, 5\, 5)\; font-size: 15px\;"><span style="font-size:14px\;"><span style="font-family:arial\;">Excellence in Arts</span></span></li>\n</ul>\n
LOCATION:Corinthians Event Center
UID:e.3411.1118
SEQUENCE:3
DTSTAMP:20260421T191110Z
URL:https://members.rgvhcc.org/events/details/noche-de-gala-2026-arabian-nights-1118
END:VEVENT

END:VCALENDAR
