BEGIN:VCALENDAR
VERSION:2.0
PRODID:-//ChamberMaster//Event Calendar 2.0//EN
METHOD:PUBLISH
X-PUBLISHED-TTL:P3D
REFRESH-INTERVAL:P3D
CALSCALE:GREGORIAN
BEGIN:VEVENT
DTSTART:20231020T230000Z
DTEND:20231020T050000Z
X-MICROSOFT-CDO-ALLDAYEVENT:FALSE
SUMMARY:Noche De Gala "The Phantom of the Gala" 2023
DESCRIPTION:The theme "Phantom of the Gala" is a formal black-tie-optional masquerade ball that will feature a live performance\, welcome reception with cocktails\, live music & the awarding of Businessman & Business Woman of the Year\, as well as the coveted "Golden Eagle Award". The evening will include a three-course meal\, crafted cocktails\, live entertainment & lots of photo opportunities.\n\n\n\nThe Gala will also feature a live & silent auction to benefit the RGV Hispanic Chamber\, which supports small businesses & the community at large. The Mission of the RGV Hispanic Chamber (RGVHCC) is to strengthen local businesses & professionals through networking\, mentorship\, education\, and promoting economic development across the border region. The RGVHCC membership is comprised of ambitious professionals spanning a wide variety of industries.\n\n\n\nHonoring the 2023 Business Leaders\n\n-Golden Eagle Award : Eduardo Campirano\n\n-Business Man of the Year : Sam Vale\n\n-Business Women of the Year : Deanna Cochran\n\n-Small Corporation of the Year : Aguilar's Meat Market\n\n-Medium Corporation of the Year : B to Z Engineering\n\n-Large Corporation of the Year : South Texas Health System
X-ALT-DESC;FMTTYPE=text/html:<div class="cxmmr5t8 oygrvhab hcukyx3x c1et5uql o9v6fnle" style="background-color: rgb(255\, 255\, 255)\; overflow-wrap: break-word\; margin: 0.5em 0px 0px\; font-family: system-ui\, -apple-system\, &quot\;system-ui&quot\;\, &quot\;.SFNSText-Regular&quot\;\, sans-serif\; color: rgb(5\, 5\, 5)\; font-size: 15px\;">The theme &quot\;Phantom of the Gala&quot\; is a formal black-tie-optional masquerade ball that will feature a live performance\, welcome reception with cocktails\, live music &amp\; the awarding of Businessman &amp\; Business Woman of the Year\, as well as the coveted &quot\;Golden Eagle Award&quot\;. The evening will include a three-course meal\, crafted cocktails\, live entertainment &amp\; lots of photo opportunities.<br />\n<br />\nThe Gala will also feature a live &amp\; silent auction to benefit the RGV Hispanic Chamber\, which supports small businesses &amp\; the community at large. The Mission of the RGV Hispanic Chamber (RGVHCC) is to strengthen local businesses &amp\; professionals through networking\, mentorship\, education\, and promoting economic development across the border region. The RGVHCC membership is comprised of ambitious professionals spanning a wide variety of industries.<br />\n<br />\nHonoring the 2023&nbsp\;Business Leaders</div>\n\n<div class="cxmmr5t8 oygrvhab hcukyx3x c1et5uql o9v6fnle" style="background-color: rgb(255\, 255\, 255)\; overflow-wrap: break-word\; margin: 0.5em 0px 0px\; font-family: system-ui\, -apple-system\, &quot\;system-ui&quot\;\, &quot\;.SFNSText-Regular&quot\;\, sans-serif\; color: rgb(5\, 5\, 5)\; font-size: 15px\;">-Golden Eagle Award : Eduardo Campirano<br />\n-Business Man of the Year : Sam Vale<br />\n-Business Women of the Year : Deanna Cochran<br />\n-Small&nbsp\;<span style="color: rgb(5\, 5\, 5)\; font-family: system-ui\, -apple-system\, &quot\;system-ui&quot\;\, &quot\;.SFNSText-Regular&quot\;\, sans-serif\; font-size: 15px\; background-color: rgb(255\, 255\, 255)\;">Corporation of the Year : Aguilar&#39\;s Meat Market</span><br />\n-Medium&nbsp\;<span style="color: rgb(5\, 5\, 5)\; font-family: system-ui\, -apple-system\, &quot\;system-ui&quot\;\, &quot\;.SFNSText-Regular&quot\;\, sans-serif\; font-size: 15px\; background-color: rgb(255\, 255\, 255)\;">Corporation of the Year : B to Z Engineering</span><br />\n-Large Corporation of the Year : South Texas Health System</div>\n
LOCATION:Corinthians Event Center
UID:e.3411.494
SEQUENCE:3
DTSTAMP:20260424T134225Z
URL:https://members.rgvhcc.org/events/details/noche-de-gala-the-phantom-of-the-gala-2023-494
END:VEVENT

END:VCALENDAR
