BEGIN:VCALENDAR
VERSION:2.0
PRODID:-//ChamberMaster//Event Calendar 2.0//EN
METHOD:PUBLISH
X-PUBLISHED-TTL:P3D
REFRESH-INTERVAL:P3D
CALSCALE:GREGORIAN
BEGIN:VEVENT
DTSTART:20240314T150000Z
DTEND:20240314T163000Z
X-MICROSOFT-CDO-ALLDAYEVENT:FALSE
SUMMARY:Nuts & Bolts of Bonding/SBA Guarantee Surety Bond Program Webinar
DESCRIPTION:Is your small business needing to grow in the federal government contracting arena? \n\n\n\nThe SBA's Surety Bond Guarantee Program is one way to help your small business secure federal government contracting opportunities. Mr. Jim Swindle\, Owner of Alamo Surety Bonds\, will provide the information on bonding.\n\n\n\nIn collaboration with our partner the RGV Hispanic Chamber of Commerce the U.S. Small Business Administration proudly brings you this informational session on surety bonding.\n\n\n\nAt this Webinar you will learn:\n\n\n\n1) The Nuts &amp\; Bolts of Bonding\n\n\n\n2) About the SBA's Surety Bond Guarantee Program\n\n\n\n3) Who is Eligible\n\n\n\n4) How to apply\n\n\n\n5) What type of Bonding is required for small business contractors\, and much\, much\, more . . .\n\n\n\nThis Training is definitely for you if:\n\n\n\n1) You are in the contracting industry\n\n\n\n2) you are needing bonding for numerous construction projects.\n\n\n\n3) If you as a firm cannot acquire bonding.\n\n\n\nJoin us thru Zoom Meeting
X-ALT-DESC;FMTTYPE=text/html:<p style="box-sizing: inherit\; color: rgb(27\, 27\, 27)\; font-family: &quot\;Source Sans Pro Web&quot\;\, &quot\;Helvetica Neue&quot\;\, Helvetica\, Roboto\, Arial\, sans-serif\; font-size: 18.08px\; background-color: rgb(255\, 255\, 255)\;">Is your small business needing to grow in the federal government contracting arena?&nbsp\;<br />\n<br />\nThe SBA&rsquo\;s Surety Bond Guarantee Program is one way to help your small business secure federal government contracting opportunities. Mr. Jim Swindle\, Owner of Alamo Surety Bonds\, will provide the information on bonding.<br />\n<br />\nIn collaboration with our partner the RGV Hispanic Chamber of Commerce the U.S. Small Business Administration proudly brings you this informational session on surety bonding.<br />\n<br />\nAt this Webinar you will learn:<br />\n<br />\n1) The Nuts &amp\;amp\; Bolts of Bonding<br />\n<br />\n2) About the SBA&rsquo\;s Surety Bond Guarantee Program<br />\n<br />\n3) Who is Eligible<br />\n<br />\n4) How to apply<br />\n<br />\n5) What type of Bonding is required for small business contractors\, and much\, much\, more . . .<br />\n<br />\nThis Training is definitely for you if:<br />\n<br />\n1) You are in the contracting industry<br />\n<br />\n2) you are needing bonding for numerous construction projects.<br />\n<br />\n3) If you as a firm cannot acquire bonding.<br />\n<br />\nJoin us thru Zoom Meeting</p>\n
LOCATION:Meeting ID: 895 9514 4801 Join Zoom Meeting with link below
UID:e.3411.725
SEQUENCE:3
DTSTAMP:20260424T081959Z
URL:https://members.rgvhcc.org/events/details/nuts-bolts-of-bonding-sba-guarantee-surety-bond-program-webinar-725
END:VEVENT

END:VCALENDAR
