BEGIN:VCALENDAR
VERSION:2.0
PRODID:-//ChamberMaster//Event Calendar 2.0//EN
METHOD:PUBLISH
X-PUBLISHED-TTL:P3D
REFRESH-INTERVAL:P3D
CALSCALE:GREGORIAN
BEGIN:VEVENT
DTSTART:20260217T153000Z
DTEND:20260217T200000Z
X-MICROSOFT-CDO-ALLDAYEVENT:FALSE
SUMMARY:Partner Event: Rio Hondo
DESCRIPTION:Texas Tropical Traill will host its first Partner Event of 2026 in Rio Hondo. This small town is filled with rich history of pioneers\, farmers and historical families. Join us for a special day of adventures! Meet up is at the Harlingen Arts & Heritage Museum for light breakfast and view the Paso Real Stagecoach Inn\, which was located in Rio Hondo\, followed by a visit to Rio Hondo.
X-ALT-DESC;FMTTYPE=text/html:Texas Tropical Traill will host its first Partner Event of 2026 in Rio Hondo. This small town is filled with rich history of pioneers\, farmers and historical families. Join us for a special day of adventures! Meet up is at the Harlingen Arts &amp\; Heritage Museum for light breakfast and view the Paso Real Stagecoach Inn\, which was located in Rio Hondo\, followed by a visit to Rio Hondo.
LOCATION:
UID:e.3411.1114
SEQUENCE:3
DTSTAMP:20260422T012114Z
URL:https://members.rgvhcc.org/events/details/partner-event-rio-hondo-1114
END:VEVENT

END:VCALENDAR
