BEGIN:VCALENDAR
VERSION:2.0
PRODID:-//ChamberMaster//Event Calendar 2.0//EN
METHOD:PUBLISH
X-PUBLISHED-TTL:P3D
REFRESH-INTERVAL:P3D
CALSCALE:GREGORIAN
BEGIN:VEVENT
DTSTART;VALUE=DATE:20231117
DTEND;VALUE=DATE:20231119
TRANSP:TRANSPARENT
X-MICROSOFT-CDO-ALLDAYEVENT:TRUE
SUMMARY:Pumpkin Patch Portraits
DESCRIPTION:With its vibrant colors and crisp air\, autumn is enchanting. It provides the perfect backdrop for capturing beautiful portraits that reflect the essence of this magical time of year. In collaboration with Govaan Photography\, we are delighted to announce our upcoming Pumpkin Patch Portrait.\n\nProfessional photographers will skillfully capture the captivating portraits of you and your loved ones amidst the enchanting ambiance of a pumpkin patch. With years of experience and an eye for detail\, Govaan Photography ensures that your personalities and the beautiful autumn colors harmoniously come together in each frame.\n\nImmerse yourself in the joyous fall atmosphere and embrace the season's spirit through our Autumn Portraits. Indulge in the warm hues of the pumpkin patch\, the crisp leaves underfoot\, and the laughter shared with your loved ones. With Govaan Photography and our team of professionals\, your autumnal portraits will testify to the beauty and joy of this remarkable season.\n\nDon't miss out on this limited-time opportunity to create stunning autumn portraits that will adorn your walls and bring warmth to your heart for years to come. Book your session now at Beech Ave. Suite 127 McAllen TX\, and let us capture the magic of autumn through the lens of Govaan Photography.
X-ALT-DESC;FMTTYPE=text/html:<h3 style="box-sizing: inherit\; font-weight: 400\; -webkit-font-smoothing: antialiased\; font-size: calc(20px * var(--ff-global-h3-multiplier) * var(--fs-h3-user-multiplier\,var(--fs-global-h3-user-multiplier)))\; font-family: &quot\;English Serif&quot\;\; line-height: var(--lh-h3\,var(--lh-global-h3))\; margin-top: 0px\; color: rgb(51\, 51\, 51)\; background-color: rgb(255\, 255\, 255)\;">With its vibrant colors and crisp air\, autumn is enchanting. It provides the perfect backdrop for capturing beautiful portraits that reflect the essence of this magical time of year. In collaboration with Govaan Photography\, we are delighted to announce our upcoming Pumpkin Patch Portrait.</h3>\n\n<h3 style="box-sizing: inherit\; font-weight: 400\; -webkit-font-smoothing: antialiased\; font-size: calc(20px * var(--ff-global-h3-multiplier) * var(--fs-h3-user-multiplier\,var(--fs-global-h3-user-multiplier)))\; font-family: &quot\;English Serif&quot\;\; line-height: var(--lh-h3\,var(--lh-global-h3))\; margin-top: 0px\; color: rgb(51\, 51\, 51)\; background-color: rgb(255\, 255\, 255)\;">Professional photographers will skillfully capture the captivating portraits of you and your loved ones amidst the enchanting ambiance of a pumpkin patch. With years of experience and an eye for detail\, Govaan Photography ensures that your personalities and the beautiful autumn colors harmoniously come together in each frame.</h3>\n\n<h3 style="box-sizing: inherit\; font-weight: 400\; -webkit-font-smoothing: antialiased\; font-size: calc(20px * var(--ff-global-h3-multiplier) * var(--fs-h3-user-multiplier\,var(--fs-global-h3-user-multiplier)))\; font-family: &quot\;English Serif&quot\;\; line-height: var(--lh-h3\,var(--lh-global-h3))\; margin-top: 0px\; color: rgb(51\, 51\, 51)\; background-color: rgb(255\, 255\, 255)\;"><span style="font-size: calc(20px * var(--ff-global-h3-multiplier) * var(--fs-h3-user-multiplier\,var(--fs-global-h3-user-multiplier)))\;">Immerse yourself in the joyous fall atmosphere and embrace the season&#39\;s spirit through our Autumn Portraits. Indulge in the warm hues of the pumpkin patch\, the crisp leaves underfoot\, and the laughter shared with your loved ones. With Govaan Photography and our team of professionals\, your autumnal portraits will testify to the beauty and joy of this remarkable season.</span></h3>\n\n<h3 style="box-sizing: inherit\; font-weight: 400\; -webkit-font-smoothing: antialiased\; font-size: calc(20px * var(--ff-global-h3-multiplier) * var(--fs-h3-user-multiplier\,var(--fs-global-h3-user-multiplier)))\; font-family: &quot\;English Serif&quot\;\; line-height: var(--lh-h3\,var(--lh-global-h3))\; margin-top: 0px\; margin-bottom: 0px\; color: rgb(51\, 51\, 51)\; background-color: rgb(255\, 255\, 255)\;">Don&#39\;t miss out on this limited-time opportunity to create stunning autumn portraits that will adorn your walls and bring warmth to your heart for years to come. Book your session now at Beech Ave. Suite 127 McAllen TX\, and let us capture the magic of autumn through the lens of Govaan Photography.</h3>\n
LOCATION:1418 Beech Ave. Suite 127 McAllen TX
UID:e.3411.674
SEQUENCE:3
DTSTAMP:20260424T122000Z
URL:https://members.rgvhcc.org/events/details/pumpkin-patch-portraits-674
END:VEVENT

END:VCALENDAR
