BEGIN:VCALENDAR
VERSION:2.0
PRODID:-//ChamberMaster//Event Calendar 2.0//EN
METHOD:PUBLISH
X-PUBLISHED-TTL:P3D
REFRESH-INTERVAL:P3D
CALSCALE:GREGORIAN
BEGIN:VEVENT
DTSTART:20250411T140000Z
DTEND:20250411T160000Z
X-MICROSOFT-CDO-ALLDAYEVENT:FALSE
SUMMARY:Re-Grand Opening & Ribbon Cutting - Walmart
DESCRIPTION:Join us for the Ribbon Cutting & RE-Grand Opening of Walmart Super Center in Edinburg! Let's celebrate!
X-ALT-DESC;FMTTYPE=text/html:<div class="kvgmc6g5 cxmmr5t8 oygrvhab hcukyx3x c1et5uql" style="overflow-wrap: break-word\; margin: 0px\; font-family: system-ui\, -apple-system\, &quot\;system-ui&quot\;\, &quot\;.SFNSText-Regular&quot\;\, sans-serif\; color: rgb(5\, 5\, 5)\; font-size: 15px\;">Join us for the Ribbon Cutting &amp\; RE-Grand Opening of Walmart Super Center in Edinburg! Let&#39\;s celebrate!</div>\n
LOCATION:
UID:e.3411.947
SEQUENCE:3
DTSTAMP:20260422T180003Z
URL:https://members.rgvhcc.org/events/details/re-grand-opening-ribbon-cutting-walmart-947
END:VEVENT

END:VCALENDAR
