BEGIN:VCALENDAR
VERSION:2.0
PRODID:-//ChamberMaster//Event Calendar 2.0//EN
METHOD:PUBLISH
X-PUBLISHED-TTL:P3D
REFRESH-INTERVAL:P3D
CALSCALE:GREGORIAN
BEGIN:VEVENT
DTSTART:20250129T160000Z
DTEND:20250129T180000Z
X-MICROSOFT-CDO-ALLDAYEVENT:FALSE
SUMMARY:Respiratory Failure News Conference and Community Announcement
DESCRIPTION:
X-ALT-DESC;FMTTYPE=text/html:
LOCATION:
UID:e.3411.907
SEQUENCE:3
DTSTAMP:20260422T233151Z
URL:https://members.rgvhcc.org/events/details/respiratory-failure-news-conference-and-community-announcement-907
END:VEVENT

END:VCALENDAR
