BEGIN:VCALENDAR
VERSION:2.0
PRODID:-//ChamberMaster//Event Calendar 2.0//EN
METHOD:PUBLISH
X-PUBLISHED-TTL:P3D
REFRESH-INTERVAL:P3D
CALSCALE:GREGORIAN
BEGIN:VEVENT
DTSTART:20251003T163000Z
DTEND:20251003T180000Z
X-MICROSOFT-CDO-ALLDAYEVENT:FALSE
SUMMARY:RGVHCC - BARREL HOUSE (Compadre Meeting)
DESCRIPTION:
X-ALT-DESC;FMTTYPE=text/html:
LOCATION:
UID:e.3411.1057
SEQUENCE:3
DTSTAMP:20260422T094004Z
URL:https://members.rgvhcc.org/events/details/rgvhcc-barrel-house-compadre-meeting-1057
END:VEVENT

END:VCALENDAR
