BEGIN:VCALENDAR
VERSION:2.0
PRODID:-//ChamberMaster//Event Calendar 2.0//EN
METHOD:PUBLISH
X-PUBLISHED-TTL:P3D
REFRESH-INTERVAL:P3D
CALSCALE:GREGORIAN
BEGIN:VEVENT
DTSTART:20240918T150000Z
DTEND:20240918T170000Z
X-MICROSOFT-CDO-ALLDAYEVENT:FALSE
SUMMARY:Ribbon Cutting - Aguilars Meat Market
DESCRIPTION:We are delighted to invite you to join us for the Ribbon Cutting and Grand Opening Ceremony of Aguilar's Meat Market. This exciting event marks the official launch of Aguilar's Meat Market and we couldn't be more thrilled to share this special occasion with our esteemed members.\n\nWe are honored to celebrate this milestone with Aguilar's Meat Market and look forward to your presence at this memorable event. Your support and participation are greatly appreciated as we welcome Aguilar's Meat Market to our vibrant business community.\n\nJoin us as we celebrate growth\, innovation\, and the spirit of entrepreneurship. See you there!
X-ALT-DESC;FMTTYPE=text/html:<p>We are delighted to invite you to join us for the Ribbon Cutting and Grand Opening Ceremony of Aguilar&#39\;s Meat Market.&nbsp\;This exciting event marks the official launch of <span style="color: rgb(51\, 51\, 51)\; font-family: sans-serif\, Arial\, Verdana\, &quot\;Trebuchet MS&quot\;\; font-size: 13px\; background-color: rgb(255\, 255\, 255)\;">Aguilar&#39\;s Meat Market</span>&nbsp\;and we couldn&#39\;t be more thrilled to share this special occasion with our esteemed members.</p>\n\n<p>We are honored to celebrate this milestone with <span style="color: rgb(51\, 51\, 51)\; font-family: sans-serif\, Arial\, Verdana\, &quot\;Trebuchet MS&quot\;\; font-size: 13px\; background-color: rgb(255\, 255\, 255)\;">Aguilar&#39\;s Meat Market&nbsp\;</span>and look forward to your presence at this memorable event. Your support and participation are greatly appreciated as we welcome <span style="color: rgb(51\, 51\, 51)\; font-family: sans-serif\, Arial\, Verdana\, &quot\;Trebuchet MS&quot\;\; font-size: 13px\; background-color: rgb(255\, 255\, 255)\;">Aguilar&#39\;s Meat Market</span> to our vibrant business community.</p>\n\n<p>Join us as we celebrate growth\, innovation\, and the spirit of entrepreneurship. See you there!</p>\n\n<p>&nbsp\;</p>\n
LOCATION:
UID:e.3411.822
SEQUENCE:3
DTSTAMP:20260423T141214Z
URL:https://members.rgvhcc.org/events/details/ribbon-cutting-aguilars-meat-market-822
END:VEVENT

END:VCALENDAR
