BEGIN:VCALENDAR
VERSION:2.0
PRODID:-//ChamberMaster//Event Calendar 2.0//EN
METHOD:PUBLISH
X-PUBLISHED-TTL:P3D
REFRESH-INTERVAL:P3D
CALSCALE:GREGORIAN
BEGIN:VEVENT
DTSTART:20250606T170000Z
DTEND:20250606T180000Z
X-MICROSOFT-CDO-ALLDAYEVENT:FALSE
SUMMARY:Ribbon Cutting - Bluewave (Brownsville)
DESCRIPTION:The Rio Grande Valley Hispanic Chamber of Commerce invites you to the Grand Opening & Ribbon Cutting for Bluewave's new location in Brownsville\, TX!
X-ALT-DESC;FMTTYPE=text/html:<div class="kvgmc6g5 cxmmr5t8 oygrvhab hcukyx3x c1et5uql" style="overflow-wrap: break-word\; margin: 0px\;">\n<p data-end="409" data-start="159" style="">The Rio Grande Valley Hispanic Chamber of Commerce invites you to the Grand Opening &amp\; Ribbon Cutting for Bluewave&#39\;s new location in Brownsville\, TX!</p>\n</div>\n
LOCATION:3298 Boca Chica Blvd\, Brownsville\, TX 78521\, USA
UID:e.3411.979
SEQUENCE:3
DTSTAMP:20260422T143752Z
URL:https://members.rgvhcc.org/events/details/ribbon-cutting-bluewave-brownsville-979
END:VEVENT

END:VCALENDAR
