BEGIN:VCALENDAR
VERSION:2.0
PRODID:-//ChamberMaster//Event Calendar 2.0//EN
METHOD:PUBLISH
X-PUBLISHED-TTL:P3D
REFRESH-INTERVAL:P3D
CALSCALE:GREGORIAN
BEGIN:VEVENT
DTSTART:20231010T210000Z
DTEND:20231010T230000Z
X-MICROSOFT-CDO-ALLDAYEVENT:FALSE
SUMMARY:Ribbon Cutting - Burns Motors
DESCRIPTION:
X-ALT-DESC;FMTTYPE=text/html:
LOCATION:Burns Motors
UID:e.3411.649
SEQUENCE:3
DTSTAMP:20260424T133944Z
URL:https://members.rgvhcc.org/events/details/ribbon-cutting-burns-motors-649
END:VEVENT

END:VCALENDAR
