BEGIN:VCALENDAR
VERSION:2.0
PRODID:-//ChamberMaster//Event Calendar 2.0//EN
METHOD:PUBLISH
X-PUBLISHED-TTL:P3D
REFRESH-INTERVAL:P3D
CALSCALE:GREGORIAN
BEGIN:VEVENT
DTSTART:20230714T213000Z
DTEND:20230714T233000Z
X-MICROSOFT-CDO-ALLDAYEVENT:FALSE
SUMMARY:Ribbon Cutting - Carmelita's Mexican Boutique
DESCRIPTION:Join us for the Ribbon Cutting & Grand Opening of Carmelita's Mexican Boutique! Let's celebrate  & welcome them into the neighborhood!
X-ALT-DESC;FMTTYPE=text/html:<div class="kvgmc6g5 cxmmr5t8 oygrvhab hcukyx3x c1et5uql" style="overflow-wrap: break-word\; margin: 0px\; font-family: system-ui\, -apple-system\, &quot\;system-ui&quot\;\, &quot\;.SFNSText-Regular&quot\;\, sans-serif\; color: rgb(5\, 5\, 5)\; font-size: 15px\;">Join us for the Ribbon Cutting &amp\; Grand Opening of Carmelita&#39\;s Mexican Boutique!&nbsp\;Let&#39\;s celebrate&nbsp\; &amp\; welcome them into the neighborhood!</div>\n
LOCATION:
UID:e.3411.590
SEQUENCE:3
DTSTAMP:20260424T184233Z
URL:https://members.rgvhcc.org/events/details/ribbon-cutting-carmelita-s-mexican-boutique-590
END:VEVENT

END:VCALENDAR
