BEGIN:VCALENDAR
VERSION:2.0
PRODID:-//ChamberMaster//Event Calendar 2.0//EN
METHOD:PUBLISH
X-PUBLISHED-TTL:P3D
REFRESH-INTERVAL:P3D
CALSCALE:GREGORIAN
BEGIN:VEVENT
DTSTART:20231103T200000Z
DTEND:20231103T210000Z
X-MICROSOFT-CDO-ALLDAYEVENT:FALSE
SUMMARY:Ribbon Cutting - Cheers Food Truck Park
DESCRIPTION:
X-ALT-DESC;FMTTYPE=text/html:
LOCATION:
UID:e.3411.661
SEQUENCE:3
DTSTAMP:20260424T122753Z
URL:https://members.rgvhcc.org/events/details/ribbon-cutting-cheers-food-truck-park-661
END:VEVENT

END:VCALENDAR
