BEGIN:VCALENDAR
VERSION:2.0
PRODID:-//ChamberMaster//Event Calendar 2.0//EN
METHOD:PUBLISH
X-PUBLISHED-TTL:P3D
REFRESH-INTERVAL:P3D
CALSCALE:GREGORIAN
BEGIN:VEVENT
DTSTART:20240817T140000Z
DTEND:20240817T160000Z
X-MICROSOFT-CDO-ALLDAYEVENT:FALSE
SUMMARY:Ribbon Cutting - Driscoll Children's Hospital Rio Grande Valley
DESCRIPTION:We are delighted to invite you to join us for the Ribbon Cutting and Grand Opening Ceremony of Driscoll Children's Hospital Rio Grande Valley. This exciting event marks the official launch of Driscoll Children's Hospital Rio Grande Valley and we couldn't be more thrilled to share this special occasion with our esteemed members.\n\nWe are honored to celebrate this milestone with Driscoll Children's Hospital Rio Grande Valley and look forward to your presence at this memorable event. Your support and participation are greatly appreciated as we welcome Driscoll Children's Hospital Rio Grande Valley to our vibrant business community.\n\nJoin us as we celebrate growth\, innovation\, and the spirit of entrepreneurship. See you there!
X-ALT-DESC;FMTTYPE=text/html:<p>We are delighted to invite you to join us for the Ribbon Cutting and Grand Opening Ceremony of Driscoll Children&#39\;s Hospital Rio Grande Valley.&nbsp\;This exciting event marks the official launch of Driscoll Children&#39\;s Hospital Rio Grande Valley&nbsp\;and we couldn&#39\;t be more thrilled to share this special occasion with our esteemed members.</p>\n\n<p>We are honored to celebrate this milestone with Driscoll Children&#39\;s Hospital Rio Grande Valley<span style="color: rgb(51\, 51\, 51)\; font-family: sans-serif\, Arial\, Verdana\, &quot\;Trebuchet MS&quot\;\; font-size: 13px\; background-color: rgb(255\, 255\, 255)\;">&nbsp\;</span>and look forward to your presence at this memorable event. Your support and participation are greatly appreciated as we welcome Driscoll Children&#39\;s Hospital Rio Grande Valley to our vibrant business community.</p>\n\n<p>Join us as we celebrate growth\, innovation\, and the spirit of entrepreneurship. See you there!</p>\n\n<p>&nbsp\;</p>\n
LOCATION:
UID:e.3411.800
SEQUENCE:3
DTSTAMP:20260423T221441Z
URL:https://members.rgvhcc.org/events/details/ribbon-cutting-driscoll-children-s-hospital-rio-grande-valley-800
END:VEVENT

END:VCALENDAR
